BEGIN:VCALENDAR
METHOD:PUBLISH
VERSION:2.0
PRODID:-//Eventilla iCal Syndication//NONSGML Liana//EN
BEGIN:VEVENT
UID:zWMDA@eventilla.com
DTSTAMP:20241105T020000Z
DTSTART:20241105T020000Z
DTEND:20241106T190000Z
SUMMARY:Retki luomupäiville 5.-6.11.2024
DESCRIPTION:Linja-auto kuljetus Luomupäiville.
LOCATION:Seinäjoen ammattikorkeakoulu FRAMI\, Kampusranta 9\, 60320\,
 Seinäjoki
URL:http://tilaisuudet.proagria.fi/linjaautokuljetusluomupaiville
END:VEVENT
END:VCALENDAR
