BEGIN:VCALENDAR
METHOD:PUBLISH
VERSION:2.0
PRODID:-//Eventilla iCal Syndication//NONSGML Liana//EN
BEGIN:VEVENT
UID:yWg19@eventilla.com
DTSTAMP:20221104T071500Z
DTSTART:20221104T071500Z
DTEND:20221104T140000Z
SUMMARY:VILLA-seminaari Hämeenlinnassa\, Wetterhoffin talossa 4.11.2022
DESCRIPTION:Tervetuloa VILLA-seminaariin keskustelemaan suomalaisen villan upeasta tulevaisuudesta! Tapahtumaan voit osallistua myös etäyhteydellä.\nVierailemme Tekstiiliverstaalla Hamkin kampuksella. Kuulemme muun muassa Mustalampaan ja Saimas Spinneryn\, VILLA-hankkeen yhteistyöyritysten puheenvuorot suomalaisesta villasta. Vierailevan luennoitsijamme Gurbet Pekerin aiheena on lampaiden kulttuurillinen merkitys.\nLisäksi esittelemme VILLA-hankkeessa kehitetyn Suomalaisen villan luokittelujärjestelmän. Ohjelmassa on myös Wool Testing Authorityn villa-analyysien tulkitseminen.\nKatso tarkempi ohjelma omalta välilehdeltä sivun ylälaidasta.\nSeminaarin osallistumismaksu 45 euroa (+alv 24%) Kahvitarjoilu kuuluu hintaan. Lounas on omakustanteinen.\nSeminaarin järjestää VILLA-hanke
LOCATION:Wetterhoffin talo, Hämeenlinna ja Teams\, Palokunnankatu 9\,
 13100\, Hämeenlinna
URL:http://tilaisuudet.proagria.fi/villaseminaari
END:VEVENT
END:VCALENDAR
