BEGIN:VCALENDAR
METHOD:PUBLISH
VERSION:2.0
PRODID:-//Eventilla iCal Syndication//NONSGML Liana//EN
BEGIN:VEVENT
UID:yWPro@eventilla.com
DTSTAMP:20231106T110000Z
DTSTART:20231106T110000Z
DTEND:20231106T150000Z
SUMMARY:Vesien vaikuttajat – vertaistukea vesistökunnostuksiin
DESCRIPTION:Tervetuloa kuulemaan vesienhoidon ajankohtaisista asioista asiantuntijoilta ja vaihtamaan kokemuksia.\nTilaisuuteen voit osallistua paikan päällä Kajaanissa (Kainuun ELY-keskus\, Kalliokatu 4) tai Joensuussa (Pohjois-Karjalan ELY-keskus\, Kauppakatu 40 B) tai etäyhteydellä (Teams).\nOhjelmassa:\n13-16\nMiksi vesistöt tummuvat? Laura Härkönen\, Suomen ympäristökeskus\nOsaajia tarvitaan vesistökunnostuksissa. Heidi Tanskanen\, Suomen metsäkeskus\, LUOTU-hanke\nKokemuksia kunnostushankkeista Ylä-Karjalassa (Harry Herranen\, Ylä-Valtimon kyläyhdistys) ja Kainuussa (Jukka Korhonen\, Suomussalmen kunta)\nVesienhoidon avustushaku lähestyy\n16-17\nTyöpajat vesistökunnostushankkeiden suunnitteluun \n \nTilaisuus on kaikille avoin. Kahvitarjoilu. Tervetuloa!\nIlmoittautuminen 5.11. mennessä. Etäosallistujille lähetetään osallistumislinkki viimeistään tapahtumapäivän aamuna.\n \nLisätietoja: Tuuli Mäkinen\, tuuli.makinen@proagria.fi (Kajaani)\, Päivi Jokinen\, paivi.jokinen@proagria.fi (Joensuu)
LOCATION:Joensuu, Kajaani, etäyhteys\, Kauppakatu 40 B\, 80101\,
 Joensuu\, Suomi
URL:http://tilaisuudet.proagria.fi/vesien-vaikuttajat
END:VEVENT
END:VCALENDAR
