BEGIN:VCALENDAR
METHOD:PUBLISH
VERSION:2.0
PRODID:-//Eventilla iCal Syndication//NONSGML Liana//EN
BEGIN:VEVENT
UID:y6ZRJ@eventilla.com
DTSTAMP:20260411T050000Z
DTSTART:20260411T050000Z
DTEND:20260411T150000Z
SUMMARY:Matka Terve Ruoka -messuille ja luomutiloille
DESCRIPTION:Messumatka ja tutustuminen luomutiloille.
LOCATION:bussimatka messuille Merikarvialle\, Harjuntie 28\, 29790\,
 Tuorila
URL:http://tilaisuudet.proagria.fi/event/y6ZRJ
END:VEVENT
END:VCALENDAR
