BEGIN:VCALENDAR
METHOD:PUBLISH
VERSION:2.0
PRODID:-//Eventilla iCal Syndication//NONSGML Liana//EN
BEGIN:VEVENT
UID:vN59O@eventilla.com
DTSTAMP:20260311T130000Z
DTSTART:20260311T130000Z
DTEND:20260311T140000Z
SUMMARY:Karelia à la carte -merkki käyttöön ja hyödyksi -info
DESCRIPTION:Olisiko sinun yrityksellesi hyötyä Karelia à la carte laatu- ja alkuperämerkistä? Tervetuloa infoon!
LOCATION:Teams
URL:http://tilaisuudet.proagria.fi/event/vN59O
END:VEVENT
END:VCALENDAR
