BEGIN:VCALENDAR
METHOD:PUBLISH
VERSION:2.0
PRODID:-//Eventilla iCal Syndication//NONSGML Liana//EN
BEGIN:VEVENT
UID:qJyOR@eventilla.com
DTSTAMP:20240816T060000Z
DTSTART:20240816T060000Z
DTEND:20240816T090000Z
SUMMARY:Integroitu viljely ja puettava teknologia alkutuotannossa -seminaari Lepaan näyttelyn yhteydessä
DESCRIPTION:Tiedätkö mitä ovat eksoskeletonit? Tai miten niitä voisi hyödyntää tähdätessä kohti ergonomisempaa ja tehokkaampaa työtapaa maa- ja puutarhataloudessa? \nTätä ja paljon muuta Lepaan 60-vuotis juhlanäyttelyn yhteydessä pidettävässä seminaarissa 16.8. Lisäksi asiaa kasvinesteanalyysista sekä integroidusta ja pölyttäjäystävällisestä viljelystä.\nTervetuloa kuuntelemaan\, keskustelemaan aiheista sekä kokeilemaan eksoskeletoneja! Imoittautumiset kahvitarjoilun vuoksi.\n \nOhjelma:\n8.45 Aamukahvi ilmoittautuneille9.00 Tervetuloa\, Marja Kallela erityisasiantuntija puutarha- ja erikoiskasvit ProAgria Etelä-Suomi9.10 Mitä kasvinesteanalyysi kertoo mansikanviljelijälle? Nina Sevelius puutarhatuotannon kehityspäällikkö ProAgria SLF ja Marja Rantanen\, tutkija\, Luke9.40 IPMWorks\, Integroitu viljely\, Marja Kallela ProAgria Etelä-Suomi10.10 Pölyttäjäystävällinen viljely\, Pyry Sammalistonaho\, asiantuntija luomutuotanto\, ProAgria Etelä-Suomi10.40 Eksoskeletonit maa- ja puutarhataloudessa\, Kimmo Vänni\, tutkijayliopettaja\, HAMK11.10 Miten tuki- ja liikuntaelimistön kuormitusta voi keventää uusin keinoin? Case esimerkkejä erilaisten exoskeletoneiden pitkäaikaisesta käytöstä puutarha-alalta\, Minna Laine\, exoskeleton asiantuntija\, Meditas Oy11.40 -12.00   Mahdollisuus eksoskeletonien kokeilemiseen\, Kimmo Vänni & Tiimi\n \nTervetuloa! 
LOCATION:Lepaan päärakennus, luokka 165\, Lepaa
URL:http://tilaisuudet.proagria.fi/integroitu_viljely_puettava_teknologia_alkutuotannossa
END:VEVENT
END:VCALENDAR
