BEGIN:VCALENDAR
METHOD:PUBLISH
VERSION:2.0
PRODID:-//Eventilla iCal Syndication//NONSGML Liana//EN
BEGIN:VEVENT
UID:qJZYW@eventilla.com
DTSTAMP:20230524T090000Z
DTSTART:20230524T090000Z
DTEND:20230524T113000Z
SUMMARY:Lammaslaidun tapaaminen Orimattilassa 24.5.
DESCRIPTION:Tervetuloa Moisanderin tilalle 24.5!\nKuulemme ajankohtaista asiaa ja kokemuksia laiduntamisesta ja laidunnurmista.\nOhjelma:\n12.00 Tilaisuuden avaus\, Marja Jalo\, kotieläinasiantuntija\n12.05 Tilan esittely ja kokemuksia tilan monipuolisista nurmista\, Hannele Moisander\n12.35 Nurmikasvit ja seokset\, Henna Aapro\, nurmiasiantuntija\n13.05 Laiduntaminen ja laidunkierto\, Marja Jalo\, kotieläinasiantuntija\n13.30 Maatalousluonnon ja maiseman hoito -ympäristösopimuksen uudistuksista\, mm. uusista aitaamis- ja peruskunnostustoimenpiteistä ja tuen hakemisesta. Auli Hirvonen\, maisema-asiantuntija\n14.00 Kahvi\n14.30 Tutustuminen tilan nurmikasvustoihin\n \nTapahtuma on maksuton\n \nTapahtuman järjestää ProAgria Etelä-Suomi\, ELINA II- hanke ja Lumotaito-hanke
LOCATION:Haapastentie 1\, 16300\, Orimattila
URL:http://tilaisuudet.proagria.fi/lammaslaidun
END:VEVENT
END:VCALENDAR
