BEGIN:VCALENDAR
METHOD:PUBLISH
VERSION:2.0
PRODID:-//Eventilla iCal Syndication//NONSGML Liana//EN
BEGIN:VEVENT
UID:pEwK6@eventilla.com
DTSTAMP:20221020T090000Z
DTSTART:20221020T090000Z
DTEND:20221020T120000Z
SUMMARY:Maisemapäivä Kukkolassa
DESCRIPTION:Kukkolan maisemapäivässä perehdytään muun muassa maiseman ja perinteen arvoon yritystoiminnassa sekä maiseman kuntouttavaan voimaan. Tilaisuudessa kuullaan myös Pohjois-Karjalan kulttuuriympäristöohjelmasta\, ja kuljetaan yhdessä maisemakävelyn merkeissä. Tilaisuus juhlistaa osaltaan kansainvälistä maisemapäivää\, jota vietetään jo kuudetta kertaa. Tervetuloa maisemamatkalle!\nOHJELMA\nLuento-osuus Kukkolan vanhassa kivinavetassa\n12:00 Kahvit\n 12:15 Avaussanat\nTervetulotoivotus\, Yhteinen ympäristö -elinvoimaa ympäristöstä hanke\nKukkolaan -tilan esittely\, Johanna Rinnekari\, MKN Yrityspalvelut\, ProAgria Itä-Suomi\n12:30 Pohjois-Karjalan kulttuuriympäristöohjelma\, Pekka Piiparinen Pohjois-Karjalan ELY-keskus\n13:00 Maiseman voima - luontolähtöinen kuntouttava työtoiminta\, Maritta Karvinen\, JoenHalt Oy\n13:30 Maiseman ja perinteen hyödyntäminen yritystoiminnassa\, Otto Makkonen\, Onnenmaa Oy\nSiirtyminen maastoon\n14-15 Maisemakävely Kukkolan tilalla\nMaisemakävelyllä kuullaan mm.\nMitä maisema kertoo katselijalle? Päivi Jokinen\, MKN Maisemapalvelut\, ProAgria Itä-Suomi\nKuntouttava työtoiminta Kukkolassa\, Maritta Karvinen\, JoenHalt Oy\nMetsämieliharjoite\, Johanna Rinnekari\n \nIlmoittaudu viimeistään 18.10. Mukaan mahtuu max. 35 osallistujaa. Tilaisuus on osallistujille maksuton.\nLisätiedot: tanja.airaksinen@msl.fi/045 120 4259 tai paivi.jokinen@maajakotitalousnaiset.fi/040 301 2409\nTilaisuuden järjestää yhteistyössä Pohjois-Karjalan Maataloussäätiön Kukkolan tila  ja Yhteinen ympäristö -elinvoimaa ympäristöstä -hanke.\nVaraathan maisemakävelylle säänmukaiset varusteet.
LOCATION:Kukkolan tila\, Vanha valtatie 70\, 80230\, Joensuu\, Finland
URL:http://tilaisuudet.proagria.fi/event/pEwK6
END:VEVENT
END:VCALENDAR
