BEGIN:VCALENDAR
METHOD:PUBLISH
VERSION:2.0
PRODID:-//Eventilla iCal Syndication//NONSGML Liana//EN
BEGIN:VEVENT
UID:pEe8b@eventilla.com
DTSTAMP:20230203T050000Z
DTSTART:20230203T050000Z
DTEND:20230203T160000Z
SUMMARY:Opintomatka Suonenjoelle
DESCRIPTION:Opintomatka Suonenjoelle 3.2.2023\n7:00 Lähtö bussilla Harjukadun tilausajopysäkiltä Jyväskylästä\nn. 7:30 Hirvaskankaan ABC\nn. 8:00 Konnevesi\nMatkalla Leena Pölkki kertoo ajankohtaisia kuulumisia Keski-Suomen ruokaverkosto -yhteistyöhankkeesta.\nSahala Herbs\, Rautalampi\n\nYrittäjä Veli-Jussi Jalkanen esittelee Sahala Herbs:n toimintaa. Sahala Herbs valmistaa kuivatuista luonnonyrteistä jauheita ja rouheita. Palveluihin kuuluvat myös mm. yrttisaunat ja yrttiretket.\nTarjolla yrttiteetä ja yrttismoothieta.\nTuotteiden ostomahdollisuus.\n\nVanhamäen hyvinvointikeskus\, Suonenjoki\n\nOmakustanteinen lounas (10 euroa).\nVanhamäen hyvinvointikeskuksen esittely.\n\nFuturian tuotekehitystilat\, Suonenjoki\n\nTuotekehittäjä Jaana Kapustamäki kertoo tuotekehitysprosessista ja sen vaiheista sekä mitä erityisesti tulee ottaa huomioon luonnontuotteista tuotteita suunniteltaessa. Tutustutaan Futurian tuotekehitystiloihin ja laitteisiin. Lisäksi SavoGrow:n palveluiden esittely.\nYrittäjät voivat vuokrata tiloja omaan tuotekehitykseen ja koevalmistukseensa.\nHanne Husso kertoo kansainvälisten premium-markkinoiden mahdollisuuksista yrittäjille.\nIltapäiväkahvit.\n\nPaluu Konneveden ja Hirvaskankaan kautta Jyväskylään Harjukadulle noin klo 18.\n \nOsallistumismaksu 50 euroa.\nOpintomatkan järjestää Luonnontuotteiden hankintaketjut kuntoon -hanke.\n \nLisätiedot ja ilmoittautumiset:\nAnni Rintoo\, anni.rintoo@maajakotitalousnaiset.fi\, 043-8269712\n \n
LOCATION:
URL:http://tilaisuudet.proagria.fi/event/pEe8b
END:VEVENT
END:VCALENDAR
