BEGIN:VCALENDAR
METHOD:PUBLISH
VERSION:2.0
PRODID:-//Eventilla iCal Syndication//NONSGML Liana//EN
BEGIN:VEVENT
UID:go40O@eventilla.com
DTSTAMP:20260310T120000Z
DTSTART:20260310T120000Z
DTEND:20260310T140000Z
SUMMARY:Mikä ihmeen D.O. Saimaa?
DESCRIPTION:Tervetuloa Iloisen Pässin Maalaispuotiin kuulemaan mistä D.O. Saimaa -merkissä on kyse ja mitä kokemuksia yrittäjillä on sen käytöstä. \n\nTervetuloa - Heli Gynther\, aluekehityspäällikkö\, Etelä-Karjalan Liitto\n Mikä ihmeen D.O. Saimaa? - Asta Aalto\, kehittämispäällikkö\, D.O.Saimaa ja Saimaa Academy of Gastronomy – Network development and learning -hanke Asta toimii kehittämispäällikkönä D.O.Saimaa -hankkeessa\, jota toteuttaa Mikkelin Seudun Matkailupalvelu ry. Hankkeen ja Astan tavoitteena on tehdä näkyväksi Saimaan alueella tuotettuja\, laadukkaita elintarvikkeita ja lisätä niiden käyttöä.\n- Ilkka Arvola\, Chef of D.O. SaimaaIlkka on pitkän linjan keittiömestari ja yksi D.O. Saimaa -merkin perustajista. Hän kertoo\, miten yritykset voivat toimia verkostossa niin\, että oma liiketoiminta vahvistuu ja samalla koko D.O. Saimaa -verkosto hyötyy ja kasvaa.\n\n Onko D.O. Saimaa -merkillä merkitystä? - Anna Siiriäinen\, karjatilallinen\, Luomutila SiiriäinenAnna haki ja sai ensimmäisten joukossa D.O.Saimaa -laatu- ja alkuperämerkin jo vuonna 2016 kasvattamiensa charolais-nautojen lihalle. Annalla\, jos kenellä\, on kokemusta merkistä ja siitä\, mitä se merkitsee.\n Kokemuksia D.O. Saimaa We Support -yhteistöverkostosta - Terhi Torikka\, Iloisen Pässin Maalaispuoti\nVinkkejä maaseudun yritystoiminnan kehittämiseen ja rahoituksiin - Tarja Pajari\, yritysasiantuntija ProAgria Etelä-Savo/Etelä-Savon maa- ja kotitalousnaiset\n\nKeskustelua\nMiten D.O. Saimaa merkkiä haetaan? Seuraava hakujakso päättyy 30.4.2026. Lue lisää täältä. \nLataa D.O. Saimaa esittelytiedosto täältä.\nIloisen Pässin Maalaispuoti sijaitsee osoitteessa Kuutostie 470 59130 KoitsanlahtiTilaisuus on maksuton. Kahvitarjoilu. Ilmoittaudu mukaan 5.3. mennessä. Tilaisuuteen on mahdollista osallistua myös Teams-yhteydellä.\nTiedustelut: Jenni Kunnaala\n \nTilaisuuden järjestää Pellolta pöytään näkyväksi -hanke.\n\n 
LOCATION:Iloisen Pässin Maalaispuoti\, Kuutostie 470\, 59130\,
 Koitsanlahti
URL:http://tilaisuudet.proagria.fi/mikaihmeendosaimaa
END:VEVENT
END:VCALENDAR
