BEGIN:VCALENDAR
METHOD:PUBLISH
VERSION:2.0
PRODID:-//Eventilla iCal Syndication//NONSGML Liana//EN
BEGIN:VEVENT
UID:gevdd@eventilla.com
DTSTAMP:20230613T100000Z
DTSTART:20230613T100000Z
DTEND:20230613T130000Z
SUMMARY:Villiyrttien öljy- ja alkoholiuutto infotilaisuus 13.6.2023 Jyväskylässä
DESCRIPTION:Villiyrttien öljy- ja alkoholiuutto infotilaisuus 13.6.2023 klo 13-16\nTilaisuudessa tutustutaan öljy- ja alkoholiuuton mahdollisuuksiin. Uuttomenetelmiä testataan yhdessä kuusenkerkällä. Alkoholiuuttoa sekä 1000 Lakes Distilleryn toimintaa esittelee toimitusjohtaja Raimo Tittonen. Öljyuuttoa esittelee ja käytännönvinkkejä yrttiöljyjen käyttöön antaa keittiömestari Juha Lehtonen. Maistiaisia ja kahvitarjoilu.  \nOsallistumismaksu 38 euroa. Paperilaskutuslisä 5 euroa.\nPaikka: Jääskeläntie 214\, 40800 Vaajakoski.\nTilaisuuden järjestää Luonnontuotteiden hankintaketjut kuntoon -hanke.\n
LOCATION:Jääskeläntie 214\, 40800\, Vaajakoski\, Suomi
URL:http://tilaisuudet.proagria.fi/event/gevdd
END:VEVENT
END:VCALENDAR
