BEGIN:VCALENDAR
METHOD:PUBLISH
VERSION:2.0
PRODID:-//Eventilla iCal Syndication//NONSGML Liana//EN
BEGIN:VEVENT
UID:geNVO@eventilla.com
DTSTAMP:20240112T110000Z
DTSTART:20240112T110000Z
DTEND:20240112T140000Z
SUMMARY:Onnistu lampaiden ruokinnassa 12.1.2024
DESCRIPTION:Tervetuloa onnistumaan lampaiden ruokinnassa!\nEtsitkö keinoja menestyksekkääseen lampaiden ruokintaan? Ilmoittaudu mukaan webinaariimme\, joka tarjoaa syvällistä tietoa ja konkreettisia vinkkejä ruokinnan suunnitteluun. \nPäivämäärä: 12.1.2024 Aika: 13.00–16.00\nWebinaarimme avaa ovet lampaiden ruokintaan liittyvän asiantuntemuksen maailmaan. Kokeneet ammattilaiset jakavat näkemyksiään ja antavat arvokasta tietoa\, joka auttaa sinua saavuttamaan parhaat tulokset ruokinnassasi.\nOhjelma:\n13.00 Viljan hometoksiinit ja niiden hallinta\, Sari Peltonen\, kasvintuotannon kehityspäällikkö\, ProAgria Keskusten Liitto\nKäsittelemme viljan hometoksiineja ja niiden tehokasta hallintaa alan huippuasiantuntijan johdolla.\n14.00 Rehuanalyysin tulkinta ja onnistumisen seuranta\, Marja Jalo\, lammas- ja vuohitalouden asiantuntija\, ProAgria Etelä-Suomi\nAsiantuntijamme Marja Jalo valottaa rehuanalyysin tärkeyttä ja antaa käytännön vinkkejä onnistuneeseen seurantaan.\n14.30 Rehuanalyysit ja käytännön kokemus\, Siri Taalas\, Pekkolan tila\nKuule suoraan tilalta tulevat käytännön kokemukset rehuanalyysien hyödyntämisestä\, kun asiakkaamme Siri Taalas avaa oman tilansa tarinan.\n15.00 Kivennäisvaihtoehtojen vertailu\, Kaie Ahlskog\, Erityisasiantuntija\, ProAgria Etelä-Suomi\nErityisasiantuntijamme Kaie Ahlskog esittelee kivennäisvaihtoehdot ja niiden vertailun\, jotta voit tehdä informoituja päätöksiä.\n15.30 Keskustelu\nTilaisuus osallistua aktiivisesti keskusteluun ja esittää kysymyksiä asiantuntijoille.\n16.00 Webinaari päättyy\nHinta: 20 € + alv\nViimeinen ilmoittautumispäivä: 9.1.2024\nIlmoittaudu mukaan ja varmista paikkasi nyt. Tervetuloa mukaan huippuosaajien opastamana kohti onnistunutta lampaiden ruokintaa!\nTapahtuma järjestetään Lihasulan säätiön avustuksella.\n
LOCATION:webinaari
URL:http://tilaisuudet.proagria.fi/lampaidenruokinta
END:VEVENT
END:VCALENDAR
