BEGIN:VCALENDAR
METHOD:PUBLISH
VERSION:2.0
PRODID:-//Eventilla iCal Syndication//NONSGML Liana//EN
BEGIN:VEVENT
UID:eKekr@eventilla.com
DTSTAMP:20240603T080000Z
DTSTART:20240603T080000Z
DTEND:20240603T131500Z
SUMMARY:Biokaasupäivä Jokioisilla 3.6.2024
DESCRIPTION:Tervetuloa kuulemaan ja keskustelemaan biokaasusta ja sen mahdollisuuksista tulevaisuudessa!  \n \nKuulemme puheenvuoroja maatilakokoluokan biokaasutuotannosta ja siihen liittyvästä tekniikasta. Iltapäivällä tutustumme Luken Biopajaan\, jossa tutkitaan ja testa­taan ratkaisuja erilaisten biomassojen ravinteiden ja orgaanisen aineksen kierrättämiseksi. Biokaasutuotannon osalta voidaan tutkia esimerkiksi käsittelyolosuhteiden\, uusien syötevaihtoehtojen ja syöttösuhteiden vaikutuksia.\nPäivän päätteeksi käymme tutustumassa uuteen maatilakokoluokan biokaasulaitokseen. Laitos sijaitsee Luken Jokioisten tutkimusnavetan yhteydessä. \nLaitoksen syötteenä on tutkimusnavetan lypsykarjan lietelanta sekä jonkin verran kasvibiomassoja ja kuivikelantaa. Biokaasua voidaan hyödyntää joko 50 kW CHP-laitteella tai 150 kW lämpökattilalla. Tuotettu energia (noin 1150 MWh/v) hyödynnetään lämpönä ja sähkönä Jokioisten kotieläintuotannon tutkimusinfran alueverkossa.\n \nOhjelma:\n \n11.00 Vapaaehtoinen omakustanteinen lounas ravintola Wendlassa (Tietotalo-rakennus\, Humppilantie 9 A)\nSeminaaripaikka: Kokoushuone Makasiini\, Planta-rakennus\, Tietotie 4\, Jokioinen\n12.00 Tervetuliaissanat\n12.10 Seminaariesitykset:\n\nTilannekatsaus biokaasututkimukseen ja Luken biokaasulaitokseen Jokioisilla\, Elina Tampio\, Luke\nCase-esittely biokaasulaitoshankkeesta\, Katja Heikkinen\, Hamk\, Biokanta -hanke\nCase Doranova\, Vesilahti Antti Myllärinen\, Doranova Oy\n\nKahvi (Kokoushuone Makasiini)\n13.00 Biopaja\, tutustumiskierros Luken laboratorion toimintaan\n14.30–16.15 Siirtyminen omilla kyydeillä ja tutustuminen Luken biokaasulaitokseen\nOsoite: Tutkimusmestarintie\, GoogleMaps ei tunne tätä tietä vielä\, mutta osoite ”Nummenpääntie 1”\, ohjaa Tutkimusmestarintien alkuun ja sieltä löytyy opasteviitta. Huom. laitos sijaitsee noin 6 km päässä kokouspaikasta\n    \nLue lisää Biopajasta:\nBiopaja – kiertotalouden ratkaisuja | Luonnonvarakeskus (luke.fi)\n \nTapahtuma on maksuton ja kaikille avoin\, ilmoittautuminen vaaditaan.\n \nLisätiedot:\nJuha Hiitelä\nEnergia-asiantuntija\njuha.hiitela@proagria.fi\n045 676 7340\n \nTapahtuman järjestää:  \nProAgria: Bioedu ja BePS -hankkeetHAMK ja Luke: BioKanta-hanke
LOCATION:Luonnonvarakeskus\, Tietotie 4\, 31600\, Jokioinen
URL:http://tilaisuudet.proagria.fi/biokaasu_jokioinen
END:VEVENT
END:VCALENDAR
