BEGIN:VCALENDAR
METHOD:PUBLISH
VERSION:2.0
PRODID:-//Eventilla iCal Syndication//NONSGML Liana//EN
BEGIN:VEVENT
UID:eKRg6@eventilla.com
DTSTAMP:20250111T070000Z
DTSTART:20250111T070000Z
DTEND:20250111T181000Z
SUMMARY:Järjestöväen picnic-kokousristeily Naantalista
DESCRIPTION:Let´s get Sirius!\n Marraskuulle 2024 järjestetty Länsi-Suomen maa- ja kotitalousnaisten jäsenristeily peruuntui varustamon saaman myrskyvaroituksen johdosta ja risteilyn uudeksi päivämääräksi on sovittu lauantai 11.1.2025. Muuttuneen päivämäärän vuoksi risteilylle vapautui nyt 10 peruutuspaikkaa. Lähde iloiseen joukkoomme ja koe yhteisöllisyyden voima yhdessä keskustellen ja ruokaillen. Laivoina  Saaristomeren kirkkaimmat tähdet Finnsirius ja Finncanopus.\n Järjestöväen risteilyllä saat uusia ideoita ja hyviä neuvoja yhdistystoimintaan. Samalla pohditaan yhdessä\, miten voisimme toimia innostavammin toimintavuonna 2025!\n \nTervetuloa mukaan.\n \nOhjelma 11.1. 2025\, Naantali - Långnäs- Naantali\nklo 9–8.45 lähtöselvitys\nklo 9.30–11.00 Myöhäinen aamiainen\nVerkostoitumista ja yhteistä tekemistä\nklo 14.45 laivan vaihto\nklo 15.00 Saaristolaisbuffet\nVerkostoitumista ja yhteistä tekemistä\nklo 20.10 Saapuminen Naantalin satamaan.\n \nHinta 60 €/ProAgria Länsi-Suomen/L-S MKN jäsen.\nLisätiedot: Risteilyemäntä Sanna Pitkänen\, sanna.pitkanen@proagria.fi\, p. 050 52 52 176
LOCATION:Finnlines terminaali Naantali\, Satamatie 13\, 21100\, Naantali
URL:http://tilaisuudet.proagria.fi/jasenristely11012025
END:VEVENT
END:VCALENDAR
