BEGIN:VCALENDAR
METHOD:PUBLISH
VERSION:2.0
PRODID:-//Eventilla iCal Syndication//NONSGML Liana//EN
BEGIN:VEVENT
UID:d4ObP@eventilla.com
DTSTAMP:20260327T120000Z
DTSTART:20260327T120000Z
DTEND:20260327T130000Z
SUMMARY:Hygieniaosaamistesti Huittisissa
DESCRIPTION:Hygieniaosaamistesti tilaisuus Huittissa.
LOCATION:ProAgrian toimisto\, Torkinkatu 14\, 32700\, Huittinen\, Suomi
URL:http://tilaisuudet.proagria.fi/event/d4ObP
END:VEVENT
END:VCALENDAR
