BEGIN:VCALENDAR
METHOD:PUBLISH
VERSION:2.0
PRODID:-//Eventilla iCal Syndication//NONSGML Liana//EN
BEGIN:VEVENT
UID:d1N1P@eventilla.com
DTSTAMP:20220427T150000Z
DTSTART:20220427T150000Z
DTEND:20220427T163000Z
SUMMARY:Kuoringan ilta: teemana kalat (lähi- ja etätilaisuus)
DESCRIPTION:Mitä tiedetään Kuoringan kalastosta\, mitä Kuoringalla kalastetaan\, mitä pitää tietää kalastukseen liittyvistä rajoitteista? Ja mitä kuuluu Kuoringalle nyt? Kuoringan järviyhdistys ja KAIPO-verkko järjestävät kaikille avoimen tilaisuuden Kuoringan asioista kiinnostuneille. Voit osallistua tilaisuuteen Salokylän sydämessä tai etänä Teams-yhteydellä. Muista ilmoittautua järjestelyjen vuoksi! Seuraamme ja noudatamme viranomaisten ohjeita viruspandemian tilanteesta.\nTervetuloa!\nOhjelmassa:\nKahvitarjoilu\n18.00 Avaus ja ajankohtaista KAIPO-verkosta\, Päivi Jokinen\, KAIPO-verkko\, MKN Itä-Suomi\, ProAgria Itä-Suomi ry\n18.10 Kuoringan kalasto ja kalastaminen Kuoringalla\, Timo Turunen\, Pohjois-Karjalan ELY-keskus\n18.30 Keskustelua kalastosta ja kalastamisesta\n19.00 Mitä kuuluu Kuoringalle? Mitä on tehty ja mitä tapahtuu lähiaikoina\, Kuoringan järviyhdistys\n19.30 Tilaisuus päättyy\n \nPaikka: Salokylän Sydän\, Petäjäkankaantie 14\, 83130 Salokylä. Myös Teams-etäyhteys järjestetään.\nIlmoittautuminen 25.4. mennessä. Voit valita joko etä- tai lähiosallistumisen ja ilmoittaa lähitilaisuuteen samalla useamman osallistujan.\nLisätiedot: Päivi Jokinen\, MKN maisemapalvelut\, ProAgria Itä-Suomi ry\, paivi.jokinen@maajakotitalousnaiset.fi\, puh. 040 3012409\nKainuun ELY-keskus hallinnoi Kainuun ja Pohjois-Karjalan yhteistä vesistökunnostusten asiantuntija- ja toimijaverkostojen vahvistamishanketta (KAIPO-verkko). Hanketta rahoitetaan Ympäristöministeriön käynnistämän vesiensuojelun tehostamisohjelman kautta.
LOCATION:Salokylän sydän, myös Teams-etätilaisuus\, Petäjäkankaantie
 14\, 83130\, Salokylä\, Suomi
URL:http://tilaisuudet.proagria.fi/event/d1N1P
END:VEVENT
END:VCALENDAR
