BEGIN:VCALENDAR
METHOD:PUBLISH
VERSION:2.0
PRODID:-//Eventilla iCal Syndication//NONSGML Liana//EN
BEGIN:VEVENT
UID:boDzO@eventilla.com
DTSTAMP:20260309T080000Z
DTSTART:20260309T080000Z
DTEND:20260309T093000Z
SUMMARY:Kasvukunnosta täsmäviljelyyn 2: Täsmäviljelyn digityökalut viljelijän apuna -webinaari
DESCRIPTION:\nKeskustelevassa webinaarissa perehdytään erilaisten digityökalujen käyttöön täsmäviljelyn näkökulmasta. Webinaari on maksuton ja pidetään Teams-alustalla. Ilmoittautumiset 8.3. mennessä. Tervetuloa!  \nKlo 10.00    Avauspuheenvuoro  ​\nSaara Ryhänen\, ProAgria Etelä-Savo​\n  ​\nKlo 10.05    Täsmäviljelytyökalujen esittely:  ​\n-GEO-BIRD\, ajolinjojen suunnittelutyökalu  ​\n-ATFARM\, täsmälannoituksen suunnittelutyökalu   ​\n-SMART FARMING\, Wisun lisäosa täsmäviljelyn suunnitteluun  ​\nAtso Mehto\, kasvintuotannon asiantuntija\, ProAgria Etelä-Savo ​\nSami Tiihonen\, luomukasvintuotannon asiantuntija\, ProAgria Etelä-Savo ​\n​\nKlo 11.15    Vapaata keskustelua aiheesta\n \nWebinaarin järjestävät Vesiviisas maaseutu -\, Pellolta pöytään näkyväksi - ja Uutta virtaa Järvi-Suomen luomuun -hankkeet. Hankkeet ovat saaneet EU:n maaseuturahoitusta Etelä-Savon ELY-keskukselta\, jonka tehtäviä hoitaa nykyisin Itä-Suomen elinvoimakeskus. Lisätietoa hankkeista: Vesiviisas maaseutu \, Pellolta pöytään näkyväksi \, Uutta virtaa Järvi-Suomen luomuun
LOCATION:Teams
URL:http://tilaisuudet.proagria.fi/event/boDzO
END:VEVENT
END:VCALENDAR
