BEGIN:VCALENDAR
METHOD:PUBLISH
VERSION:2.0
PRODID:-//Eventilla iCal Syndication//NONSGML Liana//EN
BEGIN:VEVENT
UID:aqK7X@eventilla.com
DTSTAMP:20230402T210000Z
DTSTART:20230402T210000Z
DTEND:20230405T210000Z
SUMMARY:Opintomatka Tsekkiin
DESCRIPTION:HUOM! Matka on siirtynyt lokakuulta 2022.\nLähde opintomatkalle Tsekkiin 3.-6.4.2023! Matkan aikana teemme vierailuja paikallisille maatiloille ja tutustumme energiaratkaisuihin\, kuten biokaasuasemiin. Lisäksi tutustumme paikallisiin nähtävyyksiin ja osallistumme Techagro-maatalous-\, metsä- ja energianäyttelyyn.\nAvaa matkaohjelma tästä.\nMatkan järjestää Energiaälykäs maaseutu -hanke.\nMATKAT:3.4.2023 Helsinki 09:40\, Praha 10:50 AY12216.4.2023 Wien 11:15\, Helsinki 14:40 AY1472(Ajat ovat paikallisaikoja.)MATKAN HINTA:\n\n1090 € / henkilö kahden hengen huoneessa.\n+160 € / henkilö\, jos majoittuminen yhden hengen huoneessa.\n\nHINTAAN SISÄLTYY:\n\nMatka Helsinki – Praha Finnairin lennolla\nMatka Wien – Helsinki Finnairin lennolla\nMatkustajamaksut ja lentokenttäverot\nMatkatavarat (käsimatkatavara 8 kg\, kirjattava matkatavara 1x23 kg)\nMajoittuminen yhden tai kahden hengen huoneessa\nAamiaiset hotellissa\nTuristivero\nNeljä ruokailua\n\nHINTAAN EI SISÄLLY / LISÄMAKSUT:\n\nMatkavakuutus\n\nPERUUTUSEHDOT\n\n12.2.2023 asti peruutuskulut ovat 290€/hlö matkan hinnasta (varausmaksun verran).\n12.2.–27.2.2023 perutuskulut ovat 50% matkan hinnasta.\n15.2.2023 jälkeen matkan perutuskulut ovat 100 % matkan hinnasta.\n\n290 euron varausmaksu erääntyy 30.12.2022. Loppumaksun eräpäivä on 15.2.2023. Mahdolliset peruutukset tehdään suoraan matkan yhteyshenkilölle.\nMatkan yhteyshenkilönä toimii Jukka Kontulainen\, p. 040 829 8135\, jukka.kontulainen@proagria.fi.\nIlmoittaudu matkalle viimeistään 30.12.2022 mennessä.\n
LOCATION:11000\, Praha\, Tsekki
URL:http://tilaisuudet.proagria.fi/event/aqK7X
END:VEVENT
END:VCALENDAR
