BEGIN:VCALENDAR
METHOD:PUBLISH
VERSION:2.0
PRODID:-//Eventilla iCal Syndication//NONSGML Liana//EN
BEGIN:VEVENT
UID:aq867@eventilla.com
DTSTAMP:20220518T143000Z
DTSTART:20220518T143000Z
DTEND:20220518T163000Z
SUMMARY:Keskustelutilaisuus vesistökunnostuksista Ristijärvellä
DESCRIPTION:Teemana koskikalastuspaikkojen kunnostukset ja virkistyskalastusmatkailu.\n17.30 alkaen kahvitarjoilu.\nMukana asiantuntijoita Kainuun Kalatalouskeskukselta\, Kainuun ja Koillismaan Kalaleaderilta\, Ristijärven kalaveden osakaskunnasta\, KAIPO-verkosta ja Kainuun sekä Lapin ELY-keskuksilta.\nTilaisuus on kaikille avoin. Tervetuloa!\nIlmoita viimeistään 16.5.\, jos haluat osallistua etäyhteydellä.\nLisätietoja: Tuuli Mäkinen\, MKN Itä-Suomi / ProAgria Itä-Suomi ry\, tuuli.makinen@proagria.fi\, p. 043 827 2308\nTilaisuuden järjestää Kainuun ja Pohjois-Karjalan vesistökunnostusverkostojen kehittämishanke KAIPO-verkko. proagria.fi/hankkeet/kaipo-verkko
LOCATION:Kylätalo Pyrylä\, Verkkotie 11\, 88400\, Ristijärvi\, Suomi
URL:http://tilaisuudet.proagria.fi/event/aq867
END:VEVENT
END:VCALENDAR
