BEGIN:VCALENDAR
METHOD:PUBLISH
VERSION:2.0
PRODID:-//Eventilla iCal Syndication//NONSGML Liana//EN
BEGIN:VEVENT
UID:aq7X7@eventilla.com
DTSTAMP:20220523T120000Z
DTSTART:20220523T120000Z
DTEND:20220523T130000Z
SUMMARY:Hygieniapassitesti Pori
DESCRIPTION:Hygieniapassitesti 23.5.\nLänsi-Suomen maa- ja kotitalousnaiset järjestävät hygieniaosaamistestitilaisuuden Porin toimistolla.\nHygieniapassi tarvitaan\, jos• työskentelee elintarvikehuoneistossa• käsittelee pakkaamattomia elintarvikkeita• käsittelee helposti pilaantuvia elintarvikkeita.Hygieniapassia voi tarvita niin kahviloissa\, catering-\, elintarvike- tai maatilamatkailuyrityksissä kuin elintarvikemyymälöissä työskenneltäessä.Hygieniapassista on hyötyä myös\n\nkun käsittelet luonnontuotteita\nvapaa-ajan harrastuksissa\, esimerkiksi kahvituksia tai muita tarjoiluja järjestäville\nnuorelle kesä- tai muun sesonkityön hakijalle.\n\nIlmoittautuminen on sitova. Hinta sisältää alv 24%\, hygieniatestin\, todistuksen sekä kortin.Ilmoittautuminen viimeistään 3 päivää ennen testipäivää. Ilmoittautuminen on sitova.\nOta testiin mukaan kuvallinen\, alkuperäinen ja voimassaoleva henkilöllisyystodistus.\nLisätietoja hygieniaosaamistestaaja Anna Kari anna.kari@maajakotitalousnaiset.fi
LOCATION:ProAgria Länsi-Suomen toimisto\, Itsenäisyydenkatu 35 A\,
 28130\, Pori
URL:http://tilaisuudet.proagria.fi/hyginiapassi_pori23052022
END:VEVENT
END:VCALENDAR
