BEGIN:VCALENDAR
METHOD:PUBLISH
VERSION:2.0
PRODID:-//Eventilla iCal Syndication//NONSGML Liana//EN
BEGIN:VEVENT
UID:ZPpVO@eventilla.com
DTSTAMP:20230307T140000Z
DTSTART:20230307T140000Z
DTEND:20230307T160000Z
SUMMARY:VILLA-webinaari 7.3.
DESCRIPTION:Lämpimästi tervetuloa VILLA-webinaariin 7.3.2023 klo 16-18!\n \nWebinaarissa käymme läpi kiinnostavia VILLA-asioita ja keskustelemme villatilanteesta ja jatkosta VILLA-hankkeen jälkeen.\n \nOhjelma:\n16.00 Tervetuloa\n16.10 Villa-analyysien tuloksia ja VILLA-kukka\, lampurin uusi apulainen – Kaie Ahlskog\n16.40 VILLA-laskuri – Katri Myry\n17.00 VILLA-kyselyn tulokset ja villan laatuluokitusjärjestelmä – Anu Pentti\n17.30 VILLA-hankkeen yhteenveto ja vapaata keskustelua VILLASTA\n \nTervetuloa!\n \nIlmoittaudu mukaan. Webinaari on maksuton.\nIlmoitusta saa mielellään jakaa.\n \nWebinaarin järjestää VILLA-hanke
LOCATION:Teams
URL:http://tilaisuudet.proagria.fi/villa-webinaari
END:VEVENT
END:VCALENDAR
