BEGIN:VCALENDAR
METHOD:PUBLISH
VERSION:2.0
PRODID:-//Eventilla iCal Syndication//NONSGML Liana//EN
BEGIN:VEVENT
UID:ZP3RO@eventilla.com
DTSTAMP:20231026T110000Z
DTSTART:20231026T110000Z
DTEND:20231026T130000Z
SUMMARY:Luonnontuotteista lisätuloja metsänomistajalle webinaari 26.10.2023
DESCRIPTION:Luonnontuotteista lisätuloja metsänomistajalle webinaari 26.10.2023 klo 14-16\nKiinnostaako metsien monikäyttö? Tule webinaariin kuulemaan minkälaisia ansaintamahdollisuuksia luonnontuotteissa on metsänomistajalle.\nOhjelma\n\nLuonnontuotteiden hankintaketjut kuntoon -hankkeen esittely\, Anni Rintoo Keski-Suomen maa- ja kotitalousnaiset\nLuonnontuotealan mahdollisuudet metsänomistajalle\, Marko Ämmälä Metsäkeskus\nLuonnontuotteiden keruu osana Kauhavan yhteismetsän toimintaa\, Arto Valkama Metsäkeskus\nMetsätiedot\, metsään.fi-palvelu ja digitaaliset sovellukset luonnontuotteiden kerääjien apuna\, Raili Hokajärvi Metsäkeskus\nLuomulla lisäarvoa\, keruualueiden ryhmäsertifioinnin mahdollisuudet\, Toni Saha Osuuskunta Metsäkansa\n\nWebinaari järjestetään Teams-etäyhteyden kautta. Ilmoittautuneille lähetetään osallistumislinkki. Tilaisuus on maksuton.\nTilaisuuden järjestää Luonnontuotteiden hankintaketjut kuntoon -hanke. Hanketta rahoittaa Keski-Suomen Ely-keskus maaseuturahastosta. \n
LOCATION:Teams
URL:http://tilaisuudet.proagria.fi/event/ZP3RO
END:VEVENT
END:VCALENDAR
