BEGIN:VCALENDAR
METHOD:PUBLISH
VERSION:2.0
PRODID:-//Eventilla iCal Syndication//NONSGML Liana//EN
BEGIN:VEVENT
UID:Z7GMa@eventilla.com
DTSTAMP:20260424T043000Z
DTSTART:20260424T043000Z
DTEND:20260424T150000Z
SUMMARY:Matka Helsingin RUOKA -messuille ja luomutiloille
DESCRIPTION:Messumatka ja tutustuminen luomutiloille.
LOCATION:Helsinki
URL:http://tilaisuudet.proagria.fi/event/Z7GMa
END:VEVENT
END:VCALENDAR
