BEGIN:VCALENDAR
METHOD:PUBLISH
VERSION:2.0
PRODID:-//Eventilla iCal Syndication//NONSGML Liana//EN
BEGIN:VEVENT
UID:XpAyw@eventilla.com
DTSTAMP:20250225T080000Z
DTSTART:20250225T080000Z
DTEND:20250225T100000Z
SUMMARY:Vieraslajit viljelijän vaivana -webinaari 25.2.2025
DESCRIPTION:Ohjelmaklo: 10.00 Aloitus Sami Markkanen (Ruokavirasto)\, Rikkakananhirssiklo: 10.30 Kaisa Matilainen (KasviTieto) Pohjois-Karjalan tilanne\, Jonna Häkkinen (KasviTaito) Pohjois-Savo ja Kainuuklo:10.40 Samuli Seppänen (ProAgria Etelä-Suomi)\, kokemuksia Etelä-Karjalastaklo: 11.10 Jasmin Isotupa\,  Nylands Svenska Lantbrukssällskap\, NSLklo: 11.30 Viljelijäpuheenvuoro\, Antti HuttunenWebinaarin järjestää MAKE -hankkeen\, Kasvitaidon ja Kasvitiedon vieraslajiwebinaari.\n\n 
LOCATION:Teams-etäyhteys
URL:http://tilaisuudet.proagria.fi/event/XpAyw
END:VEVENT
END:VCALENDAR
