BEGIN:VCALENDAR
METHOD:PUBLISH
VERSION:2.0
PRODID:-//Eventilla iCal Syndication//NONSGML Liana//EN
BEGIN:VEVENT
UID:WLdG2@eventilla.com
DTSTAMP:20221207T073000Z
DTSTART:20221207T073000Z
DTEND:20221207T110000Z
SUMMARY:Hanhituhot haltuun -keskustelutilaisuus Tohmajärvellä
DESCRIPTION:Ohjelmassa:\nHanhipeltojen suunnitteluhankkeen esittely\n   -tavoite\n   -kuinka etenee\n   -aikataulu\nVahingot\, kokemukset\, korvaukset\n   -hanhivahingot (2022) missä\, mitä\n   -kokemuksia hanhipelloista ja hanhipaimentoiminnasta\n   -keskeistä uuden Raulako-lain sisällöstä\nTulevan ohjelmakauden lintupellot\n   -keskeinen sisältö\n   -kohdentamisalueet\nJatkotyöskentely\n   -facetoface\nKeskustelussa mukana Mika Pirinen ja Arto Ruuska Pohjois-Karjalan ELY -keskuksesta\, Pohjois-Karjalan maaseutupalvelut ja ProAgria Itä-Suomi.\nTilaisuudessa kahvitarjoilu.\nMahdollisuus osallistua myös etänä. \nTapahtuma on maksuton.\nIlmoittautuminen 1.12. mennessä.\nTilaisuuden järjestäjä/lisätiedot: Hanhipeltosuunnittelu-hanke\, Sini Mustonen p. 050 341 8520\, sini.k.mustonen@proagria.fi\nHankkeen toiminta-aika: 1.11.2022-30.6.2023\nHanketta rahoittaa Pohjois-Karjalan maaseutupalvelut\, ProAgria Itä-Suomi ja osarahoittajana Ympäristöministeriö.\n
LOCATION:Tohmajärven valtuustosali\, Järnefeltintie 1\, 82600\,
 Tohmajärvi\, Finland
URL:http://tilaisuudet.proagria.fi/event/WLdG2
END:VEVENT
END:VCALENDAR
