BEGIN:VCALENDAR
METHOD:PUBLISH
VERSION:2.0
PRODID:-//Eventilla iCal Syndication//NONSGML Liana//EN
BEGIN:VEVENT
UID:WLDLe@eventilla.com
DTSTAMP:20220913T070000Z
DTSTART:20220913T070000Z
DTEND:20220913T090000Z
SUMMARY:Villiyrttien viljely ja puoliviljely -pellonpiennarpäivä Saarijärvellä 13.9.2022
DESCRIPTION:Kiinnostaako villiyrttien viljely? Haluatko nähdä miten esimerkiksi nokkosta tai poimulehteä kasvatetaan?\nVisa Törmälä esittelee Nordicforyou:n toimintaa sekä villiyrttien viljelyä ja puoliviljelyä. Pääsemme tutustumaan luomutilan viljely- ja keruualueisiin sekä kuulemaan kuinka pienikin tila voi menestyä erikoistumalla luonnontuotteisiin.\nYritys valmistaa luonnonraaka-aineista erilaisia tuotteita ihmisten ja eläinten hyvinvointiin. Tuotteet myydään Nordicforyou -nimellä. Lisätietoa yrityksestä ja tuotteista: https://www.nordicforyou.fi/verkkokaupan-etusivu\nOsallistumismaksu 35 euroa.\nTilaisuuden järjestää Luonnontuotteiden hankintaketjut kuntoon -hanke. Hanketta rahoittaa Keski-Suomen Ely-keskus maaseuturahastosta.\n
LOCATION:Nordicforyou\, Metsäkalliontie 347\, 43130\, Tarvaala,
 Saarijärvi
URL:http://tilaisuudet.proagria.fi/event/WLDLe
END:VEVENT
END:VCALENDAR
