BEGIN:VCALENDAR
METHOD:PUBLISH
VERSION:2.0
PRODID:-//Eventilla iCal Syndication//NONSGML Liana//EN
BEGIN:VEVENT
UID:VDRAP@eventilla.com
DTSTAMP:20231017T053000Z
DTSTART:20231017T053000Z
DTEND:20231018T140000Z
SUMMARY:Pohjois-Pohjanmaan kunnostuspäivät
DESCRIPTION:Huolestuttaako lähijärvesi tila? Pohjois-Pohjanmaan kunnostuspäivillä saat tietoa järvikunnostuksen perusteista ja uusista menetelmistä sekä kuulet käytännön kokemuksia paikallisilta kunnostustoimijoilta. Päivillä pureudutaan myös Pohjois-Pohjanmaan erityiskysymyksiin kuten rautaongelmaan sekä pohditaan ennallistamisen mahdollisuuksia. \nTilaisuus tarjoaa mainion mahdollisuuden keskusteluun voimakkaasti ojitettujen valuma-alueiden kunnostamisen haasteista ja onnistumisista. Tule mukaan vaihtamaan ajatuksia ja verkostoitumaan!\nHuomioithan\, että tapahtumaan ei ole mahdollista osallistua etäyhteydellä. Ohjelman mukaiset ruokailut (lounaat sekä 17.10. illallinen) ovat omakustanteisia ja ne laskutetaan ruokailuihin ilmoittautuneilta. \nTilaisuus on kaikille avoin ja maksuton. Ilmoittautumiset 8.10.2023 mennessä. Huomioithan että ilmoittautuminen on sitova.\nTilaisuus järjestetään yhteistyössä Pohjois-Pohjanmaan ELY-keskuksen kanssa sekä osana VENE -hanketta ja VYYHTI-verkoston toimintaa.\n \nOhjelma:\nTiistai 17.10.\n\n8.30 Aamukahvi\n\n \n\n9.15  Tervetuloa!Tero Väisänen\, Pohjois-Pohjanmaan ELY-keskus\n\n\n9.20  Kättä pidempää paikallisille kunnostustoimijoille VYYHTI-verkoston voiminRiina Rahkila\, Oulun Maa- ja kotitalousnaiset\n9.40 Ajankohtaista vesienhoidostaKimmo Aronsuu\, Pohjois-Pohjanmaan ELY-keskus\n\nEnnallistamisen mahdollisuudet\n\n10.00 Pohjois-Pohjanmaan ELY-keskuksen toteutetut Helmi-puroinventoinnit sekä suunnitellut ja toteutetut kohteetHenri Sikala\, Pohjois-Pohjanmaan ELY -keskus\n10.20 Ennallistamisen monet kasvot YlivieskassaMaija Schuss\, Ylivieskan kaupunki\n10.40 MERLIN-hanke: Luonnonmukaisia ennallistamisratkaisuja turvetuotannosta poistuvalla alueellaAnna-Kaisa Ronkanen\, Suomen ympäristökeskus\n\n \n\n11.00  Lounas (hinta 30 e/hlö. Omakustanteinen)\n\nValuma-aluekunnostuksen visaiset kysymykset\n\n12.00 Raudan haitallisten vesistövaikutusten vähentäminenturvevaltaisilla metsätalousmailla - RautavirtaHeini Postila\, Oulun yliopisto\n12.15 Rautapitoiset vedet kaupunkirakentamisessaMerja Talvitie\, Oulun kaupunki\n12.30 Kallioperän vaikutus pintavesien rauta- ja raskasmetallipitoisuuksiinKirsti Loukola-Ruskeeniemi\, Geologian tutkimuskeskus\n12.50 Vedet haltuun Pohjois-Pohjanmaan valuma-alueillaMaarit Satomaa\, Oulun Maa- ja kotitalousnaiset\n13.10 Metsätalouden vesienhoito ja rahoitusmahdollisuudetVille Koukkari\, Suomen metsäkeskus\n\n \n\n13.25  Kahvitauko\n\n \n\n13.50 Valokeilassa vesistöaluekohtaiset verkostot!Mikä on vesistöaluekohtainen verkosto ja millaista tukea se tarjoaa paikalliselle kunnostajalle? Paneelikeskustelussa mukana Pyhäjoen vesistö ry\, Kalajoen vesienhoitoryhmä\, Siikajoen vesistökunnostusverkosto sekä Iijokisopimus. \n\nPoimi vinkit lähivesistön kunnostukseen\n\n14.20 Järvien vesi- ja rantakasvillisuus – riesa vai rikkaus?Seppo Hellsten\, Suomen ympäristökeskus\n14.40 Ravintoketjukunnostus rehevöityneen järven hoitokeinona – esimerkkinä Vihdin EnäjärviJussi Vesterinen\, Länsi-Uudenmaan vesi ja ympäristö ry\n15.15 Kunnostushanke ideasta toteutukseen\, seurantaa unohtamattaHeikki Tahkola\, Oulun kalatalouskeskus \n\n \n\n15.40  Verkostoitumista ja välipalaa\n\n \nTositoimiin virka-ajan jälkeen: Paikalliset kunnostajat esiin\n\n16.00 Palkitut Jäälinjärven kunnostajat Birger Ylisaukko-oja\, Kiimingin-Jäälin vesienhoitoyhdistys ry\n16.30 Aktiivista kunnostustoimintaa KiiminkijokisuistossaKari Kaleva\, Haukiputaan jakokunta\, Pasi Haapakangas Kiiminkijoki ja -suisto kuntoon ry sekä Markku Paaso\, Konepiltonen Oy \n17.00 Esimerkkejä Pyhäjärven vesistökunnostuksistaJuha Tikka\, Pyhäjärven kalatalousalue\n17.30 Kokemuksia kosteikkohankkeistaKimmo Piippo\n18.00 Seminaaripäivä päättyy\n\n \n\nKlo 19.30  Verkostoitumista ja mahdollisuus illalliseen (Illallinen on makustanteinen ja se toteutuu\, jos syömään ilmoittautuneita on vähintään 20 hlöä).\n\n \nTutustu illallisen menuun\n \nKeskiviikko 18.10. \n\n8.30 Aamukahvit\n9.00 Huomenta!\n9.10 Järvikunnostuksen periaatteita ja mahdollisuuksiaLaura Härkönen\, Suomen ympäristökeskus\n9.50 Mistä on kyse Valkiais- ja Niilesjärven kunnostuksessaSatu Pietola\, Oulun kaupunki\n10.10 Nyt saa kysyä! Kunnostusten kyselytuntiAsiantuntijat vastaavat vesienhoitoon ja -kunnostuksiin liittyviin kysymyksiin. \n\n \n\n11.15  Lounas (hinta 30 e/hlö. Omakustanteinen)\n\n \n\n12.15 Maastoretkeily Niilesjärvelle (bussikuljetus) \n\nNiilesjärvi ja Valkiaisjärvi ovat Oulun kaupungin omistamia vesistöjä\, jotka ovat useille oululaisille tärkeitä lähivesiä ja virkistyskohteita. Järvien kunnostustyöt ovat lähteneet vauhdilla käyntiin paikallisen\, muutama vuosi sitten perustetun Pro Valkiais ja Niilesjärvi ry:n sekä Oulun kaupungin yhteistyönä. Järville on laadittu mm. kuormitusselvitys sekä yleissuunnitelma valuma-alueen vesiensuojelutoimenpiteistä\, jota on lähdetty myös toteuttamaan. \nRetkeilyllä tutustumme Niilesjärven valuma-alueelle toteutettuihin monipuolisiin vesiensuojelurakenteisiin suunnitelmat laatineen Juha Siekkisen (Kosteikkomaailma) opastuksella. Retkeilyllä on mukana myös paikallisen kunnostusyhdistyksen Anssi Puutio kertomassa kunnostusyhdistyksen aktiivisesta toiminnasta sekä Oulun kaupungin Satu Pietola kertomassa yhdistyksen ja kaupungin välisestä yhteistyöstä. Retkeilyllä esittelyssä myös Katse vesiin metsänkäsittelyssä Pohjois-Pohjanmaalla -hanke. Niilesjärven vesiensuojeluun voit tutustua jo ennen retkeä tarinakartan avulla. \n \nKäytännön ohjeita osallistujille \n \nIlmoittaudu mukaan!\n
LOCATION:Lapland Hotels Oulu\, Kirkkokatu 3\, Oulu\, Suomi
URL:http://tilaisuudet.proagria.fi/pohjois-pohjanmaan-kunnostuspaivat
END:VEVENT
END:VCALENDAR
