BEGIN:VCALENDAR
METHOD:PUBLISH
VERSION:2.0
PRODID:-//Eventilla iCal Syndication//NONSGML Liana//EN
BEGIN:VEVENT
UID:VDNk4@eventilla.com
DTSTAMP:20240820T210000Z
DTSTART:20240820T210000Z
DTEND:20240822T210000Z
SUMMARY:Pohjoismaiset Lammaspäivät: InterNorden 36. Vaasa 21.-23.8.2024
DESCRIPTION:\n \nPohjoismaiset lammaspäivät järjestetään Vaasassa elokuussa!\nIn english\n \n”Pohjoismaiset Lammaspäivät” InterNorden 36. Suomi\, Vaasa\n21.-23.8.2024\, Sokos Hotel Original Vaakuna\, Rewell-center\n21.8. Keskiviikko\, Lammastuotanto Pohjoismaissa (klo 11-17)\, 11.00-12.00 Saapuminen ja lounas12.30-17.00 Osallistujamaiden esityksetTapahtuman tervetulijaispuhe /Milla Alanco-Ollqvist  Lammastuotanto Pohjoismaissa\, esitykset kaikilta osallistujamailta\n12.45 – Suomi Marjo Simpanen ja Milla Alanco-Ollqvist\n13.15 – Ruotsi Annelie Carlsson\n13.45 -Färsaaret Jens Ivan í Gerðinum\n14.15- KAHVIT 15.00 Islanti Eyjolfur Bjarnason ja Jóhannes Sveinbjörnsson 15.30 Norja Borghild Hillestad ja Ronald Slemmen 16.00 Grönlanti 16.30EWA-Euroopan laajuinen villayhteistyö - Satu Kumpulainen\, hallituksen jäsen\nPäivähinta:  paikanpäällä:  70 €+ alv\, etänä:  50 € + alvIltaohjelma klo 18-21\, 50 €+ alvOpastettu kierros Vaasan kaupungissa\, lopussa veneretki saaristossa. Veneretken aikana tarjoillaan perinteistä suomalaista kalakeittoa.\n \n22.8. Torstai\, Seminaaripäivä (klo 9-17)\n9.00-17.00 Seminaari: Lampaiden ruokinta\, ruokintajärjestelmät ja kestävä tuotanto \nPuheenjohtaja: Petri Leinonen Lampuri\n9.00 -Seminaarin avaus: Milla Alanco-Ollqvist\, ProAgria\nOsallistujien esitykset: tutkimusten tuloksia\, tiedonjakoa\, benchmarkkausta maiden välillä9.15- Geneettisen monimuotoisuuden säilyttäminen suomenlampaassa. Kantanen Juha\, Luonnonvarakeskus\, Suomi.9.45- Suomenlampaan genomin sekventointi ja kokoonpano. Pokharel Kisun\, Luonnonvarakeskus\, Suomi.10.15- Suomalainen rehuarvojärjestelmä ja ruokintasuositukset. Jenni Vattulainen\, Luonnonvarakeskus\, Suomi.10.45- Tuoreita tutkimustuloksia lampaiden ruokinnasta ja hoidosta Islannissa. Jóhannes Sveinbjörnsson\, Islanti.11.15 LOUNAS12.00- Tuloksia uuhien ruokintakokeesta Ruotsista. Annelie Carlsson\, Ruotsi.\n12.30 Ruokintamallit ja järjestelmät suomalaisilla lammastiloilla. Anna Silén ja Milla Alanco-Ollqvist\, ProAgria\, Suomi.\n13.00 Tuloksia 7-vuotisesta projektista: meri-peräiset proteiinit tiineiden uuhien ruokinnassa tavanomaisten tiivisteiden sijaan. Jens Ivan í Gerðinum\, Färsaaret.13.45-KAHVIT jonka jälkeen posterit ym materiaalit lyhyesti\n14.45 Lammaslaidun-hanke\, Graze Well. Osa 1.  Kysely laidunnuksesta ja loistorjunnasta suomalaisilla lammastiloilla. Eeva Mustonen\, Finland.\n15.15  Laumanvartijat Annaelina Kotilainen WWF ja Susi-Life hanke.\n15.45 Tuottava karitsatuotanto. Carlsson Annelie\, Ruotsi.\n16.15 Pilot Farmers implementing and demonstrating Climate Smart Solutions for a carbon neutral Europé-Climate Farm project Henna Latvala\, Suomi\n16.45 Päätöskeskustelu ja yhteenveto\nPostereita ja muuta materiaalia nähtävissä koko päivän ajan17.00 Koulutuspäivä päättyy \nPäivähinta: paikanpäällä: 80 €+alv\, etänä: 60 €+ alv\nIllallinen\, Ravintola Hejm Ravintola merenrannassa\nMenu (54€\, ei sis. juomia): AlkuruoatMaustepaahdettua sekä hapatettua porkkana Finne farmilta\, valutettua jogurttia\, chorizoa\, yrttisalattia & rapeaa leipäHapanjuurileipää\, voita & auringonkukansiemenpestoaPääruokaGrillattua paikallista karitsa Jokikylistä. Perunapyreetä\, paahdettua ja pikkelöityä porkkana\, siulia\, karitsanliemi sekä grillattua ruskistettua voita sekä lisuke jaettavaksi; paahdettua parsakaalia\, rakuuna pestoa ja fetajuustoaJälkiruokaKermaviilijäätelöä rapeaa murotaikinaa\, raparperikompottia\, kirvelivaahtoa & mantelikakkua\n \n23.8. Perjantai\, Opintoretkipäivä\, 50€ + alv.8.30 Bussi lähtee hotellilta\nLammastila Ingos Får / Ingos Lammas\, Christoffer ja Jenni Ingo\, Veikkaala.\nTilalla on 100 suomenlammasuuhta eri väreissä. Puurakenteisessa lampolassa on ruokintakiskot\, jolla rehut jaetaan väkirehu/paalihäkkeihin. Tila tekee lihan ja vuotien suoramyyntiä. Pellot ovat luomutuotannossa\, viljelyssä on nurmi\, kaura\, herne ja syyskasvit. Maiseman hoitoa tehdään myös kaupunkialueilla.Opastettu kierros Merenkurkun maailman perintökohteeseenLounas Bernys-ravintolassa ja maailmanperintöporttiSaltkaretin näköalatorni ja kahvitauko14.30 Paluu hotellille 16.00-19.00 Suomen Lammasyhdistyksen kevätkokous\, sääntömääräiset asiat (ERILLINEN ILMOITTAUMINEN Suomen Lammasyhdistykselle).\nIlmoittautuminen päättyy 9.8.2024. Järjestäjä pidättää oikeuden muutoksiin. \nYhteisvaraus majoitukseen on päättynyt. Voit varata itse majoituksen Vaasan runsaasta majoitustarjonnasta.\nYhteystiedot: Milla Alanco-Ollqvistmilla.alanco-ollqvist@proagria.fi+358 407060558\nAnna Silénanna.silen@proagria.fi +358 504090375\nMarjo Simpanenmarjo.simpanen@lammasyhdistys.fi+358 449737000
LOCATION:Sokos Hotel Original Vaakuna, Rewell-center\, Vaasa
URL:http://tilaisuudet.proagria.fi/event/VDNk4
END:VEVENT
END:VCALENDAR
