BEGIN:VCALENDAR
METHOD:PUBLISH
VERSION:2.0
PRODID:-//Eventilla iCal Syndication//NONSGML Liana//EN
BEGIN:VEVENT
UID:VDN1P@eventilla.com
DTSTAMP:20240425T150000Z
DTSTART:20240425T150000Z
DTEND:20240425T170000Z
SUMMARY:Luonnonyrtit tutuksi -etäkoulutus
DESCRIPTION:Luonnonyrtit tutuksi -etäkoulutus 25.4.2024 klo 18.00\nTule mukaan oppimaan luonnonyrteistä\, villiyrteistä!Koulutuksesta saat vahvistusta omaa osaamiseen ja rohkeutta käyttää luonnonyrttejäLuento sisältää• Luonnonyrttien tunnistusta ja vinkkejä poimintaan• Luonnonyrttien käsittelyä keräämisen jälkeen ja tarvittavaan välineistöön tutustuminen• Vinkkejä luonnonyrttiruokiin• Mahdollisuus suorittaa pätevyys keraaja.fi -rekisteriin myöhemmin\nTule mukaan ja inspiroidu!Ilmoittautuminen viimeistään 2 päivää ennen koulutusta. Ilmoittautuminen on sitova.\nKoulutus pidetään Microsoft Teams:n kautta. Omalla koneella tai puhelimella ei tarvitse olla Teams-sovellusta asennettuna. Ilmoittautuneille lähetetään osallistumislinkki ja kirjautumisohjeet.Kurssin jälkeen saat kirjallisen materiaalin sähköpostiisi.\nKoulutus maksetaan ilmouttautumisen yhteydessä.\nHinta: 30 € sis. alv.Lisätietoja: Anna Kari p. 050 555 8440\, anna.kari@maajakotitalousnaiset.fi tai Janita Kylänpää p. 050 66471 janita.kylanpaa@maajakotitalousnaiset.fi\nKoulutus toteutuu jos osallistujia on vähintään 7 kpl. Koulutus toteutetaan yhteistyössä Opintokeskus Siviksen kanssa.
LOCATION:Teams yhteyden välityksellä tapahtuva koulutus
URL:http://tilaisuudet.proagria.fi/luonnonyrtittutuksi2024
END:VEVENT
END:VCALENDAR
