BEGIN:VCALENDAR
METHOD:PUBLISH
VERSION:2.0
PRODID:-//Eventilla iCal Syndication//NONSGML Liana//EN
BEGIN:VEVENT
UID:RG9MP@eventilla.com
DTSTAMP:20260324T080000Z
DTSTART:20260324T080000Z
DTEND:20260324T130000Z
SUMMARY:Sähköakustojen laitetoimittajat areenalla - Meet & Greet Hyvinkää
DESCRIPTION:Tapaat samalla kertaa useamman sähköakustoja toimittavan eri yrityksen edustajat\, sinulla on mahdollisuus kysyä juuri sinua askarruttavista asioista ja saada kysymyksiin vastauksia sekä kuulla toisten viljelijöiden ajatuksia akustopohdintaan liittyen. Tilaisuudessa keskustellaan myös mm. sähköakustojen yhteishankintamahdollisuuksista.
LOCATION:Knehtilän tila\, Haapasaarentie 75\, 05840\, Hyvinkää
URL:http://tilaisuudet.proagria.fi/sahkoakustopaivahyvinkaa
END:VEVENT
END:VCALENDAR
