BEGIN:VCALENDAR
METHOD:PUBLISH
VERSION:2.0
PRODID:-//Eventilla iCal Syndication//NONSGML Liana//EN
BEGIN:VEVENT
UID:OlAr4@eventilla.com
DTSTAMP:20221115T061500Z
DTSTART:20221115T061500Z
DTEND:20221118T201000Z
SUMMARY:Ammattimatka Saksaan ja Hollantiin EuroTier- ja EnergyDecentral -näyttelyyn 15.11.-18.11.2022
DESCRIPTION:Lähde mukaan maailman johtaville ammattimaisen eläintenkasvatuksen ja karjanhoidon kansainvälisille EuroTier -näyttelyyn!\nHuom! Ammattimatka on ollut erittäin suosittu ja lippuja ei ole enää tarjolla. Voit kuitenkin ilmoittautua jonoon ja saada paikan\, jos peruutuksia tulee.\nEuroTier -näyttelyn kanssa samaan aikaan järjestetään EnergyDecentral -näyttely. EnergyDecentral on vakiinnuttanut paikkansa energia-alan asiantuntijoiden kansainvälisenä kohtaamispaikkana.\nPääset tutustumaan Hannoverin messukeskuksessa  maailmanlaajuisen eläintuotantoteollisuuden uusiin innovaatioihin sekä entistä ajankohtaisempiin energiaratkaisuihin.\nMatkaan sisältyy myös kaksi retkeilypäivää hollantilaisilla ja saksalaisilla maatilakohteilla\, aiheina mm. nykyaikainen lypsykarjatila\, biokaasutuotannon tekniikka ja biometaanin markkinat Keski-Euroopassa\nKatso tarkempi ohjelma tästä!\n \nHinta ja maksuehdot: Helsingistä 960 €\, kun yli 39 matkustajaa ja 1000 €/hlö kun 30–39.  Lisähinta 1 hengen huoneesta 135 €. Pidätetään oikeus hinnan muutokseen.\nIlmoittautumiset viimeistään 8.9.22.Huom! Kirjoita koko nimesi\, kuten se lukee passissasi tai henkilökortissasi. \nToimistokulu 300 €/hlö varattaessa\, loppumaksu 07.10.22.\n \nHinta sisältää: tulkkauksen ja matkaoppaan palvelut (Erkki Holma)\, näyttelyliput\, vierailut\, haalarit ja kengänsuojat\, ruokailut 2 x lounas\, 3 x yhteinen illallinen\, (ei sisällä messupäivien lounaita)\, ja kuljetukset sekä hotellimajoitukset 2hh:ssa\, aamiaiset\, hotelleissa langaton nettiyhteys.\n \nPeruutus: Maksun myöhästyessä matkatoimisto voi perua matkan korvauksetta. Matkatoimisto palauttaa maksut\, jos koko matka peruuntuu vähintään 62 pv ennen matkaa. Jos myöhemmin ylivoimainen tilanne estää matkan\, niin palautetaan maksut vähennettynä toimistokuluilla.\n \nMatkavakuutus ja todistukset: Edellytämme matkustajalta äkillisen sairastumisen tai tapaturman varalta matkustajavakuutusta\, joka kattaa myös matkan peruutusturvan.\nMatkalla tarvitaan voimassa oleva passi tai henkilökortti (ajokortti ei riitä). Tiedotamme lähtijöille koronapassin osalta lähempänä tapahtumaa.\n \nMatkan vastuullinen järjestäjä: Matkatoimisto PT-Matkat\nMatkan järjestää ProAgria Etelä-Suomen BioedU ja AgroEko -hankkeet yhteistyössä Osuunkunta Länsi-Maidon ja Osuuskunta Tuottajain Maidon kanssa.\n \nLisätietoja tapahtumasta antaa Juha Hiitelä\npuh. 045-6767340
LOCATION:Hannover\, Saksa
URL:http://tilaisuudet.proagria.fi/eurotier
END:VEVENT
END:VCALENDAR
