BEGIN:VCALENDAR
METHOD:PUBLISH
VERSION:2.0
PRODID:-//Eventilla iCal Syndication//NONSGML Liana//EN
BEGIN:VEVENT
UID:MKZzg@eventilla.com
DTSTAMP:20260318T070000Z
DTSTART:20260318T070000Z
DTEND:20260318T100000Z
SUMMARY:Peruspaketti omistajanvaihdoksista 18.3.
DESCRIPTION:Sukupolvenvaihdos on yksi maatilan tärkeimmistä päätöksistä ja parhaimmillaan se rakentaa tilalle vahvan tulevaisuuden.\n\nTule mukaan maksuttomaan webinaariin\, jossa käymme läpi selkeästi ja käytännönläheisesti sukupolvenvaihdoksen perusteet.\n\nWebinaari sopii tilan jatkajille\, luopujille sekä perheille\, jotka haluavat ymmärtää muutoksen taloudelliset\, juridiset ja käytännön vaikutukset ennen päätösten tekemistä.
LOCATION:Teams
URL:http://tilaisuudet.proagria.fi/event/MKZzg
END:VEVENT
END:VCALENDAR
