BEGIN:VCALENDAR
METHOD:PUBLISH
VERSION:2.0
PRODID:-//Eventilla iCal Syndication//NONSGML Liana//EN
BEGIN:VEVENT
UID:M0yL8@eventilla.com
DTSTAMP:20240418T100000Z
DTSTART:20240418T100000Z
DTEND:20240418T130000Z
SUMMARY:Vastuullisuusviestintä pienissä yrityksissä -webinaari
DESCRIPTION:Vastuullisuusviestintä pienissä yrityksissä -webinaari to 18.4.2024 klo 13-16\nVastuullisuus on vahvistuva trendi ja se voi olla yrityksen kilpailuvaltti! Yritysten yhteiskuntavastuu on tärkeä näkökohta myös pienille yrityksille. Vastuullinen yritys huomioi toimintansa vaikutukset ihmisiin\, ympäristöön ja yhteiskuntaan. Asiakkaiden kiinnostus vastuullisia valintoja kohtaan kasvaa jatkuvasti\, joten yritysten kannattaa korostaa omia vastuullisia käytäntöjään ja sitoutumistaan kestävään kehitykseen.\nMelko uusi asia herättää paljon kysymyksiä. Mitä on vastuullisuus elintarvike- ja ruokapalveluyrityksissä? Miten viestisin siitä asiakkaille? Miltä osin toimintamme on jo vastuullista ja missä olisi mahdollisuus kehittyä? Muun muassa näihin kysymyksiin pyrimme vastaamaan ja jakamaan tietoa ja työkaluja yritysten vastuullisuusviestinnän parantamiseen.  Tervetuloa linjoille!\n13.00 Mitä on ilmastoystävällinen ruoka ja minkälaisia vastuullisuustekoja yritysten kannattaa nostaa esiin viestinnässä? Päivi Matilainen ja Satu Nokkonen\, Etelä-Suomen Maa- ja kotitalousnaiset/ProAgria Etelä-Suomi ry14.00 Tauko14.15 Vastuullisuusviestinnästä erilaisissa yrityksissä. Mistä asiakkaat ovat kiinnostuneita? Millaiset on kiertotalouden ja vastuullisuuden näkymät tulevaisuudessa? Timo Huhtamäki\, toimitusjohtaja Emmy Clothing Company Oy\, EU:n ilmastolähettiläs14.45 Keskustelua ja kysymyksiä15.00 Työkaluja oman yrityksen vastuullisuusviestintään\, Päivi Matilainen ja Satu Nokkonen\, Etelä-Suomen Maa- ja kotitalousnaiset/ProAgria Etelä-Suomi ry\nIlmoittautuminen ma 15.4. mennessä. Teams-linkki tilaisuuteen lähetetään webinaaripäivän aamupäivän aikana.\nLisätietoja: Satu Nokkonen\, p. 040 574 9337\n \nTilaisuuden järjestää Kestävä RuokaHäme -hanke\n\n \nsekä Uudet askeleet elintarvikealalla Kaakkois-Suomessa -hanke\n
LOCATION:
URL:http://tilaisuudet.proagria.fi/vastuullisuusviestinta
END:VEVENT
END:VCALENDAR
