BEGIN:VCALENDAR
METHOD:PUBLISH
VERSION:2.0
PRODID:-//Eventilla iCal Syndication//NONSGML Liana//EN
BEGIN:VEVENT
UID:M0plg@eventilla.com
DTSTAMP:20220913T090000Z
DTSTART:20220913T090000Z
DTEND:20220916T201500Z
SUMMARY:Villainen opintomatka Norjaan 13.-16.9.2022
DESCRIPTION:Tervetuloa villaiselle opintomatkalle Norjaan  13.-16.9.2022!\nVierailemme muun muassa kahdella kehräämöllä (Oslo Mikrospinneri ja Telespinn)\, Norilian villankeruuasemallaGolissa sekä tutustumme kahteen lammastilaan.\nVierailemme myös Raulandsakademietiin Telemarkissa ja käymmeNorjan vanhimmassa sauvakirkossa Heddalissa.\nMatkanjohtajana toimii Anu Pentti.\nKatso tarkempi ohjelma omalta välilehdeltä.\n \nMatka on tarkoitettu ensisijaisesti VILLA-hankkeen hankealueen (Varsinais-Suomen\, Pirkanmaan\, Etelä-Pohjanmaan ja Pohjanmaan Ely-keskusten alueet) lampureille\, joiden matkaa hanke tukee.\nMukaan voi tulla hankealueen ulkopuolisia lampureita ja hanketoimijoita maksamalla koko matkan hinnan. Matkalle mahtuu mukaan 25 henkeä.\n \nMatkan kokonaishinta hankealueen lammastalousyrittäjille on 660 euroa per henkilö. Hinta sisältää ruokailupaketin ( 210 euroa).\nMuille osallistujille matkan kokonaishinta on 1110 eur (sis. ruokailupaketin 210 eur).\n \nHintaan sisältyy:\n\nlennot Helsinki – Oslo ja Oslo – Helsinki (sis. ruumalaukku 23 kg)\nbussikuljetuksen Norjassa\nkehräämö- ja tilavierailut sekä opastuksen\nmajoitukset keskitason hotelleissa 2hh huoneessa. 1 hengen huoneita saatavilla rajoitetusti lisämaksusta 195 eur\n4 x lounaan sekä 1x päivällisen. Muut ruokailut omakustanteisia\n\n \nMatkan hinta ei sisällä matkavakuutusta. Suosittelemme osallistujille matkavakuutusta\, joka kattaa mahdollisesta matkan peruuntumisesta aiheutuvia kuluja esimerkiksi sairastumistapauksessa. Matkavakuutuksen hankkiminen on jokaisen omalla vastuulla.\nNorjan hallitus purki kaikki koronarajoitukset 12.2.2022. Maakohtaiset määräykset saattavat muuttua ennen matkaa. Huolehdithan\, että matkustukseen liittyvät mahdolliset vaatimukset täyttyvät mm. koronapassivaatimusten osalta.\n \nSitovat ilmoittautumiset viimeistään 11.8.2022. Huom! Kirjoita koko nimesi\, kuten se lukee passissasi tai henkilökortissasi.\nOsallistumismaksu laskutetaan ennakkoon 7.8.2022 mennessä.\nHinnat perustuvat 1.7.2022 voimassa olleisiin hintatietoihin. Niiden muuttuessa oleellisesti pidätämme oikeuden vastaaviin hinnanmuutoksiin.\n \nLisätiedot:\nAnu Pentti\npuh.0417313590\nanu.pentti@proagria.fi\n \nJärjestäjänä VILLA-hanke.
LOCATION:Oslo, Gol\, Norja
URL:http://tilaisuudet.proagria.fi/villamatkanorja
END:VEVENT
END:VCALENDAR
