BEGIN:VCALENDAR
METHOD:PUBLISH
VERSION:2.0
PRODID:-//Eventilla iCal Syndication//NONSGML Liana//EN
BEGIN:VEVENT
UID:M0LbZ@eventilla.com
DTSTAMP:20230608T090000Z
DTSTART:20230608T090000Z
DTEND:20230608T140000Z
SUMMARY:Villiyrtit fermentoinnissa työpaja 8.6.2023 Laukaassa
DESCRIPTION:Villiyrtit fermentoinnissa työpaja 8.6.2023 klo 12-17\nFermentointi eli hapattaminen on ikivanha säilöntätapa\, jolla saadaan aikaan hienoja makuja. Työpajassa kokki Jouni Toivanen opastaa osallistujia fermentoinnin saloihin teoriassa ja käytännössä.  Yhdessä valmistetaan ja maistellaan erilaisia villiyrttiruokia.\nJouni Toivanen on Michelin-palkittu kokki\, joka on keskittynyt erityisesti villiyrtteihin. Toivaselta ilmestyy tänä vuonna Fermentointikirja.\nOsallistumismaksu 38 euroa. Paperilaskulisä 5 euroa. Työpajaan mahtuu mukaan 20 osallistujaa.\nPaikka: Äijäparkki\, Saksalantie 25\, Leppävesi\, Laukaa.\nTilaisuuden järjestää Luonnontuotteiden hankintaketjut kuntoon -hanke.\n
LOCATION:Äijäparkki, Saksalantie 25, Leppävesi, Laukaa\, Saksalantie
 25\, 41310\, Leppävesi\, Suomi
URL:http://tilaisuudet.proagria.fi/event/M0LbZ
END:VEVENT
END:VCALENDAR
