BEGIN:VCALENDAR
METHOD:PUBLISH
VERSION:2.0
PRODID:-//Eventilla iCal Syndication//NONSGML Liana//EN
BEGIN:VEVENT
UID:M04ag@eventilla.com
DTSTAMP:20240322T070000Z
DTSTART:20240322T070000Z
DTEND:20240322T130000Z
SUMMARY:Viljelymaa tuottamaan luomumenetelmin 22.3.2024
DESCRIPTION:Tervetuloa käymään laajasti ja monipuolisesti läpi viljavuuden hoitoa eri näkökulmista ProAgria Etelä-Suomen järjestämään koulutukseen!\nTutustumme materiaaleihin\, joiden avulla voit itse selvittää tiivistymisriskejä pellolla ja parantaa lohkojen kestävyyttä sään ääri-ilmiöissä. Päivän aikana paneudumme myös vaihtoehtoisiin menetelmiin rikkakasvien hallinnassa.\nKurssipäivä on osa luomuperuskurssia\, joten keskitymme luomutuotantoehtojen mukaisiin menetelmiin.  \nOhjelma pe 22.3.2024 klo 9.00-15.00 klo 9.00 Maan kasvukunnon hoito – viljelyssä onnistumisen edellytykset \nklo 11.30 Lounas\nklo 12.15 Kasvinvuorotus avuksi ravinnehuollossaKasvinsuojelu luomumenetelmin  Viljelijäpuheenvuoro    \nHinta\nKurssin hinta 80 euroa / henkilö + alv 24 %.\nJos olet suorittanut luomuperuskurssin jo aikaisemmin ja haluat päivittää tietojasi\, päivä täyttää luomusitoumusehtojen vaatimuksen lisäkoulutuspäivästä (ehtojen mukaan käytävä yksi lisäkoulutuspäivä sitoumuskaudella).\n 
LOCATION:Teams
URL:http://tilaisuudet.proagria.fi/viljelymaa
END:VEVENT
END:VCALENDAR
