BEGIN:VCALENDAR
METHOD:PUBLISH
VERSION:2.0
PRODID:-//Eventilla iCal Syndication//NONSGML Liana//EN
BEGIN:VEVENT
UID:Lyd0d@eventilla.com
DTSTAMP:20240626T060000Z
DTSTART:20240626T060000Z
DTEND:20240627T120000Z
SUMMARY:Yhteistyöllä haitallisia vieraskasveja vastaan Barentsin alueella
DESCRIPTION:Komealupiini. Kuva: Taimi Mahosenaho.\nTule mukaan vieraskasviseminaariin ja verkostoitumistapahtumaan Rovaniemelle! Tapahtuma järjestetään englanniksi.\nWe welcome you to discuss and learn more about invasive alien plants! This two-day event\, organized by Rural Women’s Advisory Organization in collaboration with Natural Resources Institute Finland (Luke)\, is targeted for everyone who finds invasive alien species or related environmental issues on their work desk. The aim of the event is to spread information about the importance of controlling invasive alien plants and to give hints and tips how to actually do the controlling work and advising with whom to partner with. For people who actively work with invasive alien plant species\, this is a splendid opportunity to gain newest information\, insight and knowledge. There will also be a networking event and an interesting field trip to see different work performances.\nSign-up here!\nIf you have any questions\, don’t hesitate to contact: Taru Koskinen\, Rural Women’s Advisory Organization: taru.koskinen@maajakotitalousnaiset.fi\nElla Ahti\, Natural Resources Institute Finland: ella.ahti@luke.fi\n
LOCATION:Tiedekeskus Pilke\, Ounasjoentie 6\, 96200\, Rovaniemi\, Suomi
URL:http://tilaisuudet.proagria.fi/vieraskasviseminaari-rovaniemi
END:VEVENT
END:VCALENDAR
