BEGIN:VCALENDAR
METHOD:PUBLISH
VERSION:2.0
PRODID:-//Eventilla iCal Syndication//NONSGML Liana//EN
BEGIN:VEVENT
UID:LyEJ1@eventilla.com
DTSTAMP:20230607T130000Z
DTSTART:20230607T130000Z
DTEND:20230607T150000Z
SUMMARY:Itse tehtyä mozzarellaa ja etikkajuustoa
DESCRIPTION:Itse tehtyä mozzarellaa ja etikkajuustoa\nTurun ruokaviikoilla 5.–18.6. juhlitaan turkulaista ruokaa!\nJuustojen valmistus on mukavaa puuhaa. Kotitekoiset juustot syntyvät helpoista raaka-aineista näppärästi kotikeittiössä.\nTässä työpajassa harjoitellaan valmistamaan mozzarellaa itse sekä tutustutaan yksinkertaisen etikkajuuston valmistukseen. Etikkajuusto toimii myös pikamozzarellana\, jos aika ei riitä perinteisen mozzarellan valmistamiseen.\nKurssin hinta on 30€ ja kurssihinta maksetaan maksukortilla saavuttaessa kurssille\,sisältää opetuksen ja kurssimateriaalin sekä ohjeet. Ilmoittautuminen on sitova.\nMukaasi voit pakata esiliinan\, sisäkengät ja purkin juuston kotiin viemistä varten. \nJärjestämme illan ( 7.6) aikana kaksi saman sisältöistä työpajaa aiheesta klo:16:00-18:00 ja klo:18:15-20:15. Yhteen työpajaan mahtuu 10 osallistujaa.\nLisätietoja Janita Kylänpää janita.kylanpaa@maajakotitalousnaiset.fi\nTämän tilaisuuden toteuttamiseen on saatu avustusta opetus- ja kulttuuriministeriöltä.\nPidätämme oikeuden muutoksiin.
LOCATION:ProAgria Länsi-Suomen toimisto\, Vahdontie 91\, 20320\, Turku\,
 Suomi
URL:http://tilaisuudet.proagria.fi/mozzarella1
END:VEVENT
END:VCALENDAR
