BEGIN:VCALENDAR
METHOD:PUBLISH
VERSION:2.0
PRODID:-//Eventilla iCal Syndication//NONSGML Liana//EN
BEGIN:VEVENT
UID:LPkp6@eventilla.com
DTSTAMP:20260227T100000Z
DTSTART:20260227T100000Z
DTEND:20260227T110000Z
SUMMARY:NettiKatras päiväkahvit
DESCRIPTION:Koulutukset järjestetään joka toinen perjantai alkaen 16.1. Teamsissa\, klo 12-13. Linkit laitetaan NettiKatraan asiakkaille sähköpostiin.\n16.1. Katsaus edellisvuoteen: tulosten seuranta raporteilta & Tapahtumat -välilehden kautta saatavat tiedot23.1. Katras hallintaan: Ryhmien muodostus ja eläinaineksen hallinta suodattimilla13.2. Pakolliset ilmoitukset NettiKatraassa: Poikimailmoitusten tekeminen & mitä tehdä\, jos tulee virhe (ml. korjausten päivitys NettiKatraaseen Ruokaviraston rekisteristä). Poisto- ja siirtoilmoitukset.27.2. Punnitukset ja kuntoluokitus: miksi tehdä\, miten tallentaa\, miten hyödyntää tietoja?\nKuten aiemminkin\, koulutukset ovat ilmaisia eikä niihin tarvitse ilmoittautua. Koulutuksista ei tehdä tallenteita.
LOCATION:Teams
URL:http://tilaisuudet.proagria.fi/event/LPkp6
END:VEVENT
END:VCALENDAR
