BEGIN:VCALENDAR
METHOD:PUBLISH
VERSION:2.0
PRODID:-//Eventilla iCal Syndication//NONSGML Liana//EN
BEGIN:VEVENT
UID:Kobp8@eventilla.com
DTSTAMP:20250311T153000Z
DTSTART:20250311T153000Z
DTEND:20250311T170000Z
SUMMARY:MKN-strategiatyöpaja kaikille jäsenillemme
DESCRIPTION:Tällä hetkellä käynnissä on järjestömme uuden strategian laadintatyö\, joka tulee toimimaan yhteisten tavoitteiden kirkastamisen välineenä. Järjestämme 11.3.2025 klo 17.30 kaikille jäsenille avoimen etätyöpajan tulevaisuuden painopisteistä. Nyt on aika ottaa kantaa siihen\, kuinka toimitaan aidosti jäsen- ja asiakaslähtöisesti\, järjestömme tulevaisuus turvaten. Toivomme aktiivista osallistumista – jokaisen mielipide on tärkeä! Strategian tehtävänä on luoda suunta\, jonka avulla päästään tavoitteisiin\, yhtenäistää ja kohdistaa toimintaa\, luoda identiteettiä ja tuoda selkeyttä. \n \nIlmoittauduthan tapahtumaan viimeistään tuntia ennen webinaarin alkua. 
LOCATION:Teams
URL:http://tilaisuudet.proagria.fi/mkn-strategiatyopaja
END:VEVENT
END:VCALENDAR
