BEGIN:VCALENDAR
METHOD:PUBLISH
VERSION:2.0
PRODID:-//Eventilla iCal Syndication//NONSGML Liana//EN
BEGIN:VEVENT
UID:JB1gb@eventilla.com
DTSTAMP:20230606T140000Z
DTSTART:20230606T140000Z
DTEND:20230606T180000Z
SUMMARY:Yrttipoimijakoulutus Jämsässä 6.6.2023
DESCRIPTION:Yrttipoimijakoulutus Jämsässä 6.6.2023 klo 17-21\nOpeteltavina lajeina poimijakoulutuksessa ovat kuusenkerkkä\, koivunlehti\, nokkonen ja maitohorsman verso.\nKoulutuksessa käydään läpi\n\nLuonnonyrttien kerääminen ja käyttö\nKeruuvälineet\nJokamiehen oikeudet\nLuonnonyrtteihin liittyvä lainsäädäntö\nKerääjärekisteri\nKeruuharjoitukset\n\nKoulutuksen hyväksytysti suorittaneet saavat poimijakortin todisteeksi osaamisestaan.\nKoulutuksen pitää keruutuotetarkastaja Anni Rintoo. \nOsallistumismaksu 38 euroa. Paperilaskutuslisä 5 euroa.\nIlmoittaudu mukaan viimeistään 4.6.2023. Kahvitarjoilu. \nTilaisuuden järjestää Luonnontuotteiden hankintaketjut kuntoon -hanke.Hanketta rahoitaa Keski-Suomen Ely-keskus maaseuturahastosta.\n\n 
LOCATION:Ruotsulan Hovi\, Turkinkyläntie 74\, 42100\, Jämsä\, Suomi
URL:http://tilaisuudet.proagria.fi/event/JB1gb
END:VEVENT
END:VCALENDAR
