BEGIN:VCALENDAR
METHOD:PUBLISH
VERSION:2.0
PRODID:-//Eventilla iCal Syndication//NONSGML Liana//EN
BEGIN:VEVENT
UID:GGO96@eventilla.com
DTSTAMP:20241011T060000Z
DTSTART:20241011T060000Z
DTEND:20241011T110000Z
SUMMARY:Tule kuulemaan monipuolisesti Hämeen maaseudun asiaa ja verkottumaan – kutsu Kanta-Hämeen hanketreffeille 11.10. Hämeenlinnassa
DESCRIPTION:Kanta-Hämeen Hanketreffit alueen yrityksille\, hanketoimijoille sekä sidosryhmille.
LOCATION:Museo Militaria, Tykkihalli\, Vanhankaupunginkatu 19\, 13100\,
 Hämeenlinna
URL:http://tilaisuudet.proagria.fi/hanketreffit2024
END:VEVENT
END:VCALENDAR
