BEGIN:VCALENDAR
METHOD:PUBLISH
VERSION:2.0
PRODID:-//Eventilla iCal Syndication//NONSGML Liana//EN
BEGIN:VEVENT
UID:EGVGg@eventilla.com
DTSTAMP:20250218T110000Z
DTSTART:20250218T110000Z
DTEND:20250218T140000Z
SUMMARY:Vastuullinen ja ympäristötietoinen lammastila webinaari
DESCRIPTION:Vastuullisuuden huomioiminen tuotannossa hyödyttää tilaa ja auttaa myös tuotteiden markkinoinnissa. Kerromme miten toimii ympäristötietoinen vastuullinen lammastila ja saat ideoita mitä toimia voisit toteuttaa omalla maatilallasi.\n \nOhjelma \n13.00 Tilaisuuden avaus ja hankkeen esittely Milla Alanco-Ollqvist\n13.15 Ympäristötietoinen maatila hyödyttää omistajia ja ympäristöä – Sini Sillanpää lammasasiantuntija ProAgria\n13.45 Kokemuksia Carbon Action työstä- case Pia Niemeläinen lampuri Keski-Suomesta\ntauko\n14.30 Vastuullisuus lammastilalla\, mitä asioita liittyy vastuullisuuteen – Milla Alanco-Ollqvist lammasasiantuntija ProAgria\n15.00 Kansainvälistä ilmastotyötä- hankkeen toiminta ja tilaisuudet sekä kokemuksia laskureista. Climate farm demo Henna Latvala kasvintuotannon asiantuntija\, ProAgria Etelä-Pohjanmaa\n15.30 Sosiaalinen ehdollisuus maatilalla – Heini Rajaniemi taloushallinnon asiantuntija ProAgria Etelä-Pohjanmaa\n15.50 Loppukeskustelu ja tilaisuuden päätös\n Tilaisuus on maksuton. \n \n\nMenestyvä lammastila-hanke
LOCATION:Teams
URL:http://tilaisuudet.proagria.fi/event/EGVGg
END:VEVENT
END:VCALENDAR
