BEGIN:VCALENDAR
METHOD:PUBLISH
VERSION:2.0
PRODID:-//Eventilla iCal Syndication//NONSGML Liana//EN
BEGIN:VEVENT
UID:EG0Od@eventilla.com
DTSTAMP:20260205T070000Z
DTSTART:20260205T070000Z
DTEND:20260205T133000Z
SUMMARY:Peltokasvipäivä 2026
DESCRIPTION:Viljan vaihtoehdot ja parempi kannattavuus - Mistä tulevaisuuden tulovirrat löytyvät\nSuomalainen viljantuotanto on ylituotannon ja heikon kannattavuuden puristuksessa. Kuitenkin vaihtoehtoja on enemmän kuin usein muistetaan.\nPeltokasvipäivässä kuulet kasvivaihtoehdoista viljalle\, markkinointikanavista sekä siitä\, miten tuottajaorganisaatiot voivat vahvistaa viljelijän asemaa markkinoilla. Tapahtuma tarjoaa esimerkkejä\, kokemuksia ja näkökulmia siihen\, miten tuotantoa ja myyntiä voi suunnata kannattavampaan suuntaan.\nVerkostoidu! Luvassa on kohtaamisia ja uusia mahdollisuuksia Sedu Ilmajoentiellä. Inspiroidu puheenvuoroista ja tutustu minimessuihin\, joissa mukana maatalousalan yrityksiä ja toimijoita. Verkostoidu\, vaihda ajatuksia ja löydä uusia ideoita!\nIlmoittautuneille on tarjolla kahvit ja lounas tapahtuman yhteistyökumppaneiden tarjoamana. \nPäivän teemoja: \n\nViljelyn kannattavuus\nTuottajaorganisaation kokemuksia ja oppeja\nHerneen viljely ja markkinat\nKuminan ja korianterin viljely ja markkinat\nSiementuotanto ja viljalle vaihtoehtoiset kasvit\nTärkkelysperunan sopimustuotanto\nRypsin/rapsin viljely ja markkinat\nÖljypellava viljelykasvina\n\nOHJELMA:\n9.00 Aamukahvit tarjolla \n10.00 Tilaisuuden avausKannattavuutta tuottajaorganisaatiosta- hanke\, ProAgria Etelä-Pohjanmaa\, Roope Kurki\n10.10 Viljelyn kannattavuusSari Peltonen\, ProAgria Keskusten Liitto\n10.40 ViljaTavastia: Tuottajaorganisaation kokemuksia ja oppeja Eeva Pajulahti11.00 Herneen viljely ja markkinatTaneli Marttila\, A-rehu11.15 Vierailu ständeillä ja lounas13.00 Vilja-Aitta: Tuottajaorganisaation kokemuksia ja oppejaEsa Lindroos13.20 Kuminan ja korianterin viljely ja markkinatMatias Rönnqvist\, Caraway13.35 Siementuotanto ja viljalle vaihtoehtoiset kasvitJunttila Teemu\, Junttilan tila13.50 Tärkkelysperunan sopimustuotantoKimmo Pusa\, Finnamyl14.05 Rypsin/rapsin viljely ja markkinatPetri Huttunen\, FF- Agri\n14.20 Öljypellava viljelykasvinaHeikki Lahti-Kala\, Linseed14.35 Tutustuminen minimessuihin\, verkostoitumista\n\n\nKannattavuutta tuottajaorganisaatiosta-hanke\n 
LOCATION:Sedu Ilmajoki\, Ilmajoentie 525\, Ilmajoki
URL:http://tilaisuudet.proagria.fi/event/EG0Od
END:VEVENT
END:VCALENDAR
