BEGIN:VCALENDAR
METHOD:PUBLISH
VERSION:2.0
PRODID:-//Eventilla iCal Syndication//NONSGML Liana//EN
BEGIN:VEVENT
UID:B8rG6@eventilla.com
DTSTAMP:20240207T073000Z
DTSTART:20240207T073000Z
DTEND:20240207T130000Z
SUMMARY:Pohjanmaan Viljapäivä *Ilmoittautuminen on päättynyt*
DESCRIPTION:Pohjanmaan Viljapäivä7.2.2024 klo 9.30-15.00Ilmajoki/Sedu (Ilmajoentie 525)\n \nMillaiset ovat viljamarkkinoiden näkymät? Mikä on viljatonnin hinta tänään? Millaista tilojen välinen viljakauppa on tänä päivänä?\nTervetuloa ProAgria Etelä-Pohjanmaan ja MTK Etelä-Pohjanmaan järjestämään Pohjanmaan Viljapäivään kuulemaan alueen viljanostajien tuomiset tulevaan kasvukauteen\, kannattavuus- ja markkinanäkymiä sekä viljelijäpuheenvuorossa kokemuksia tilojen välisestä viljakaupasta!\nAlustava ohjelma:\n9.30 Kahvi\, Väderstad Ab tarjoaa\n9.55 Avaussanat\, Juha-Matti Toppari\, ProAgria Etelä-Pohjanmaa\n10.00 Markkinakatsaus: Miten vastata markkinariskeihin\, Max Schulman\, vilja-asiamies MTK \n10.45 Kannattavuusnäkymät - Mikko Prusti kasvintuotannon asiantuntija\, ProAgria Etelä-Pohjanmaa\n11.15 Tilojen välinen viljakauppa – Ari Nortunen\, naudanlihantuottaja\, Ylistaro\n12.00 Lounas (Viljanostajat tarjoavat) ja tutustuminen ständeihin\n13.00 Viljanostajien puheenvuorot: Lantmännen\, Hankkija\, Anora\, Viljelijän Berner\, A-rehu\n14.40 Päätössanat\, MTK\n14.45 Tutustuminen ständeihin\n15.00 Tapahtuman päätös\n \nTervetuloa!Tilaisuus on maksuton.\n\n
LOCATION:Ilmajoentie 525\, 60800\, Ilmajoki
URL:http://tilaisuudet.proagria.fi/event/B8rG6
END:VEVENT
END:VCALENDAR
