BEGIN:VCALENDAR
METHOD:PUBLISH
VERSION:2.0
PRODID:-//Eventilla iCal Syndication//NONSGML Liana//EN
BEGIN:VEVENT
UID:B8el6@eventilla.com
DTSTAMP:20230615T140000Z
DTSTART:20230615T140000Z
DTEND:20230615T180000Z
SUMMARY:Yrttipoimijakoulutus Laukaassa 15.6.2023
DESCRIPTION:Yrttipoimijakoulutus Laukaassa 15.6.2023 klo 17-21\nOpeteltavina lajeina poimijakoulutuksessa ovat voikukka\, mesiangervo ja nokkonen.\nKoulutuksessa käydään läpi\n\nLuonnonyrttien kerääminen ja käyttö\nKeruuvälineet\nJokamiehen oikeudet\nLuonnonyrtteihin liittyvä lainsäädäntö\nKerääjärekisteri\nKeruuharjoitukset\n\nKoulutuksen hyväksytysti suorittaneet saavat poimijakortin todisteeksi osaamisestaan.\nKoulutuksen pitää keruutuotetarkastaja Anni Rintoo. \nOsallistumismaksu 38 euroa. Paperilaskutuslisä 5 euroa.\nIlmoittaudu mukaan viimeistään 12.6.2023.\nTilaisuuden järjestää Luonnontuotteiden hankintaketjut kuntoon -hanke.Hanketta rahoitaa Keski-Suomen Ely-keskus maaseuturahastosta.\n
LOCATION:Niemelän tila\, Hoikkalantie 44\, 41390\, Äijälä, Laukaa\,
 Suomi
URL:http://tilaisuudet.proagria.fi/event/B8el6
END:VEVENT
END:VCALENDAR
