BEGIN:VCALENDAR
METHOD:PUBLISH
VERSION:2.0
PRODID:-//Eventilla iCal Syndication//NONSGML Liana//EN
BEGIN:VEVENT
UID:Ae7BP@eventilla.com
DTSTAMP:20230606T130000Z
DTSTART:20230606T130000Z
DTEND:20230704T160000Z
SUMMARY:Puutarhakerhot alakoululaisille Vampulassa
DESCRIPTION:Tiistain puutarhakerhossa hoidetaan kasvimaata\, tutustutaan puutarhan kasveihin sekä askarrellaan puutarhakoristeita luonnonmateriaaleista.  Kerho kokoontuu Vampulan kirjaston takana puistoalueella\, yhteisöpuutarhassa. Kerho on tarkoitettu 1.-6. -luokkalaisille.\nKokoontumiskerrat tiistaisin klo 16-19: 6.6.13.6.20.6.4.7. Vampula-viikko\, luvassa puutarhan ja kivien koristelua\, kasvien tunnistusta. Menosta vastaa MLL Vampula. \nPuutarhakerho on maksuton ja siellä tarjotaan välipalaa. Tervetuloa!\nIlmoittautuminen\nIlmoittaumaan kerhoon pääsee klikkaamalla "lue lisää / ilmoittaudu"\n(ilmoittautuminen on tärkeää\, jotta osaamme varata välipalaa oikean määrän)\nLisätietoa milla.nikko(a)proagria.fi\nOmasta maasta -hankkeen puutarhakerhon mahdollistavat yhteistyökumppanit: MLL Vampula\, Vampulan maatalousnaiset\, Wampulla\, Huittisten kirjasto- ja kulttuuripalvelut sekä Huittisten 4H-yhdistys. \n\n 
LOCATION:
URL:http://tilaisuudet.proagria.fi/vampulanpuutarhakerhot
END:VEVENT
END:VCALENDAR
