BEGIN:VCALENDAR
METHOD:PUBLISH
VERSION:2.0
PRODID:-//Eventilla iCal Syndication//NONSGML Liana//EN
BEGIN:VEVENT
UID:AXleB@eventilla.com
DTSTAMP:20250611T130000Z
DTSTART:20250611T130000Z
DTEND:20250611T171500Z
SUMMARY:Itse tehtyä mozzarellaa ja etikkajuustoa
DESCRIPTION:Juustojen valmistus on mukavaa puuhaa. Kotitekoiset juustot syntyvät helpoista raaka-aineista näppärästi kotikeittiössä.
LOCATION:ProAgria Länsi-Suomen toimisto\, Vahdontie 91\, 21280\, Raisio\,
 Suomi
URL:http://tilaisuudet.proagria.fi/mozzarellatyopaja25
END:VEVENT
END:VCALENDAR
