BEGIN:VCALENDAR
METHOD:PUBLISH
VERSION:2.0
PRODID:-//Eventilla iCal Syndication//NONSGML Liana//EN
BEGIN:VEVENT
UID:8ab3q@eventilla.com
DTSTAMP:20231115T083000Z
DTSTART:20231115T083000Z
DTEND:20231115T100000Z
SUMMARY:Paistetaan joulupipareita
DESCRIPTION:Paistetaan joulupipareita!\nOlitko mukana 2.11 livessä valmistamassa piparkakkutaikinaa? Nyt on aika tarkastaa millaista taikinaa saatiin aikaan. Tule mukaan liveen\, jossa pääset seuraamaan Annan ja Janitan leppoista leivontahetkeä. Saattaa mukana olla muitakin :) \nVoimaannutaan ja virittäydytään yhdessä joulun odotukseen. \nJoulupiparien ohjeen löydät täältä: https://fb.me/e/2OX2qOOIV
LOCATION:Länsi-Suomen maa- ja kotitalousnaisten SoMe -kanavat
URL:http://tilaisuudet.proagria.fi/paistetaanjoulupipareita
END:VEVENT
END:VCALENDAR
