BEGIN:VCALENDAR
METHOD:PUBLISH
VERSION:2.0
PRODID:-//Eventilla iCal Syndication//NONSGML Liana//EN
BEGIN:VEVENT
UID:8EQ19@eventilla.com
DTSTAMP:20250313T110000Z
DTSTART:20250313T110000Z
DTEND:20250313T130000Z
SUMMARY:Luonnosta makuja ravintolaan -tuottajatreffit – luonnontuotteiden kaupallinen käyttö ja toimiva toimitusketju
DESCRIPTION:Luonnontuoteyritys ja kerääjä – tule esittelemään ja maistattamaan omia raaka-aineita ja luonnontuotepohjaisia elintarvike- ja ruokatuotteitasi ravintoloille.\nKeittiömestari ja ravintolan edustaja – tule tutustumaan alueen luonnontuoteraaka-aineisiin\, -jalosteisiin ja uusiin makuihin!\nLuvassa on tietoa\n\nluonnontuotteiden onnistuneesta toimitusketjusta\nluonnontuotteiden ravintoarvoista\nluonnonraaka-aineiden kaupallisista käyttömahdollisuuksista ravintolassa\nlisäksi maistiaisia ja verkostoitumista\n\nOhjelma\n13.00 Tervetuloa!\n13.10 Luonnontuotteet tukkuun – kuinka se onnistuu\, avainasiakaspäällikkö Annina Ruotsalainen\, Kasvishovi/Palvelutukku Pohjoinen ja kenttämyyntipäällikkö Jokke Tuulaniemi\n13.35 Luonnontuotteiden ravintoarvot ja kaupallinen käyttö ravintolassa\, Mervi Tiermas\, Oulun Maa- ja kotitalousnaiset\n14.00 Tuottaja-ravintolatreffit:\n\nMaistelua ja tutustumista yrittäjien tuotteisiin\, luonnontuotepohjaisiin elintarvikkeisiin\, jalosteisiin ja raaka-aineisiin\nVerkostoituminen ja jatkoaskeleista keskusteleminen\n\n15.00 Tilaisuus päättyy\nTilaisuuden puheenvuorot on mahdollista kuunnella Teams-etäyhteyden kautta.\nTilaisuus on maksuton ja suunnattu erityisesti ravintoloiden edustajille\, luonnontuoteyrityksille ja -jalostajille sekä kerääjille sekä kaikille aiheesta kiinnostuneille. \nIlmoittaudu paikan päällä osallistujaksi viimeistään su 9.3.2025. Etäyhteydellä osallistujaksi voi ilmoittautua ke 12.3. saakka.\nTervetuloa mukaan!\nTapahtuman järjestää Oulun Maa- ja kotitalousnaiset ja Luonnontuotteita pohjoisesta -hanke.\n
LOCATION:Merikoski-sali, Hotelli Lasaretti\, Kasarmintie 13b\, 90130\,
 Oulu\, Suomi
URL:http://tilaisuudet.proagria.fi/event/8EQ19
END:VEVENT
END:VCALENDAR
